BEGIN:VCALENDAR
VERSION:2.0
PRODID:-//United Nations Alliance of Civilizations (UNAOC) - ECPv5.14.2.1//NONSGML v1.0//EN
CALSCALE:GREGORIAN
METHOD:PUBLISH
X-WR-CALNAME:United Nations Alliance of Civilizations (UNAOC)
X-ORIGINAL-URL:https://www.unaoc.org
X-WR-CALDESC:Events for United Nations Alliance of Civilizations (UNAOC)
BEGIN:VTIMEZONE
TZID:America/Halifax
BEGIN:DAYLIGHT
TZOFFSETFROM:-0400
TZOFFSETTO:-0300
TZNAME:ADT
DTSTART:20160313T060000
END:DAYLIGHT
BEGIN:STANDARD
TZOFFSETFROM:-0300
TZOFFSETTO:-0400
TZNAME:AST
DTSTART:20161106T050000
END:STANDARD
END:VTIMEZONE
BEGIN:VEVENT
DTSTART;TZID=America/Halifax:20160303T100000
DTEND;TZID=America/Halifax:20160303T130000
DTSTAMP:20221113T145546
CREATED:20160301T221901Z
LAST-MODIFIED:20160302T211935Z
UID:17242-1456999200-1457010000@www.unaoc.org
SUMMARY:UN: 70 Years of Successes and Challenges
DESCRIPTION:UN: 70 Years of Successes and Challenges\nUNHQ\, New York – March 3\, 2016\, 10:00 am to 1:00 pm \n[pdf width=”100%” height=”1100px”]http://www.unaoc.org/wp-content/uploads/Italian-Diplomatic-Academy.pdf [/pdf]\nShare thisClick to share on Twitter (Opens in new window)Click to share on Facebook (Opens in new window)Click to share on LinkedIn (Opens in new window)Click to share on Pinterest (Opens in new window)Click to share on Skype (Opens in new window)Click to share on WhatsApp (Opens in new window)Click to email a link to a friend (Opens in new window)MoreClick to share on Reddit (Opens in new window)Click to share on Tumblr (Opens in new window)Click to print (Opens in new window)Click to share on Pocket (Opens in new window)Click to share on Telegram (Opens in new window)
URL:https://www.unaoc.org/event/un-70-years-of-successes-and-challenges/
LOCATION:UNHQ\, NY
CATEGORIES:UNAOC Events
END:VEVENT
END:VCALENDAR