BEGIN:VCALENDAR
VERSION:2.0
PRODID:-//United Nations Alliance of Civilizations (UNAOC) - ECPv5.14.2.1//NONSGML v1.0//EN
CALSCALE:GREGORIAN
METHOD:PUBLISH
X-WR-CALNAME:United Nations Alliance of Civilizations (UNAOC)
X-ORIGINAL-URL:https://www.unaoc.org
X-WR-CALDESC:Events for United Nations Alliance of Civilizations (UNAOC)
BEGIN:VTIMEZONE
TZID:America/Halifax
BEGIN:DAYLIGHT
TZOFFSETFROM:-0400
TZOFFSETTO:-0300
TZNAME:ADT
DTSTART:20130310T060000
END:DAYLIGHT
BEGIN:STANDARD
TZOFFSETFROM:-0300
TZOFFSETTO:-0400
TZNAME:AST
DTSTART:20131103T050000
END:STANDARD
END:VTIMEZONE
BEGIN:VEVENT
DTSTART;TZID=America/Halifax:20130521T150000
DTEND;TZID=America/Halifax:20130521T150000
DTSTAMP:20221113T163133
CREATED:20130517T215958Z
LAST-MODIFIED:20130517T215958Z
UID:8564-1369148400-1369148400@www.unaoc.org
SUMMARY:Do One Thing for Diversity and Inclusion Campaign Launch
DESCRIPTION:The  United Nations Alliance of Civilizations launched the “Do One Thing for Diversity and Inclusion” campaign in 2011 in partnership with UNESCO and more than a hundred corporate\, civil society and governmental partners from around the world. The main objective of the campaign is to build awareness and public support for Diversity and Inclusion. It  also marks World Day for Diversity and Development on May 21st. \nPeople all around the world will be doing one thing to express their commitment to diversity and inclusion\, sharing their experience with family \,friends and colleagues. \nThe UN High-Representative for the Alliance of Civilizations\, Mr. Nassir Abdulaziz Al-Nasser himself will express his firm commitment to inclusion and diversity and will go to the Bronx on May 21st \, at 3PM at The Point ( 940 Garrison Avenue )\, the Saint Paul’s Lutheran church and the Yankees stadium to meet with leaders of local communities\, in the field of sports\, education\, culture\, and to express the support of the United Nations for their work to promote diversity and inclusion. \nThe campaign will culminate in Baku\, Azerbaijan  on May 29th on the sidelines of the Baku Forum for Intercultural Dialogue with the participation of a number of Ministers and Government officials. Dozens of events in celebration of Diversity and Inclusion will take place around the world as well as a slogan contest and a video contest. \nAll information is available on the Facebook page “Do One Thing for Diversity and Inclusion”. \nJoin us in celebrating Diversity and Inclusion\, show your support\, and Do One Thing yourself for Diversity and Inclusion. \nFor Press inquiries\, contact Ms. Nihal Saad\, Spokesperson for the UN High-Representative for the Alliance of Civilizations : saadn@un.org or nsaad777@yahoo.com \nShare thisClick to share on Twitter (Opens in new window)Click to share on Facebook (Opens in new window)Click to share on LinkedIn (Opens in new window)Click to share on Pinterest (Opens in new window)Click to share on Skype (Opens in new window)Click to share on WhatsApp (Opens in new window)Click to email a link to a friend (Opens in new window)MoreClick to share on Reddit (Opens in new window)Click to share on Tumblr (Opens in new window)Click to print (Opens in new window)Click to share on Pocket (Opens in new window)Click to share on Telegram (Opens in new window)
URL:https://www.unaoc.org/event/the-un-alliance-of-civilizations-launches-do-one-thing-for-diversity-and-inclusion-campaign/
LOCATION:The Bronx
END:VEVENT
END:VCALENDAR