BEGIN:VCALENDAR
VERSION:2.0
PRODID:-//United Nations Alliance of Civilizations (UNAOC) - ECPv6.15.20//NONSGML v1.0//EN
CALSCALE:GREGORIAN
METHOD:PUBLISH
X-WR-CALNAME:United Nations Alliance of Civilizations (UNAOC)
X-ORIGINAL-URL:https://www.unaoc.org
X-WR-CALDESC:Events for United Nations Alliance of Civilizations (UNAOC)
REFRESH-INTERVAL;VALUE=DURATION:PT1H
X-Robots-Tag:noindex
X-PUBLISHED-TTL:PT1H
BEGIN:VTIMEZONE
TZID:America/Halifax
BEGIN:DAYLIGHT
TZOFFSETFROM:-0400
TZOFFSETTO:-0300
TZNAME:ADT
DTSTART:20160313T060000
END:DAYLIGHT
BEGIN:STANDARD
TZOFFSETFROM:-0300
TZOFFSETTO:-0400
TZNAME:AST
DTSTART:20161106T050000
END:STANDARD
BEGIN:DAYLIGHT
TZOFFSETFROM:-0400
TZOFFSETTO:-0300
TZNAME:ADT
DTSTART:20170312T060000
END:DAYLIGHT
BEGIN:STANDARD
TZOFFSETFROM:-0300
TZOFFSETTO:-0400
TZNAME:AST
DTSTART:20171105T050000
END:STANDARD
BEGIN:DAYLIGHT
TZOFFSETFROM:-0400
TZOFFSETTO:-0300
TZNAME:ADT
DTSTART:20180311T060000
END:DAYLIGHT
BEGIN:STANDARD
TZOFFSETFROM:-0300
TZOFFSETTO:-0400
TZNAME:AST
DTSTART:20181104T050000
END:STANDARD
END:VTIMEZONE
BEGIN:VEVENT
DTSTART;TZID=America/Halifax:20170113T100000
DTEND;TZID=America/Halifax:20170113T140000
DTSTAMP:20260422T145942
CREATED:20170113T153519Z
LAST-MODIFIED:20170113T153850Z
UID:19689-1484301600-1484316000@www.unaoc.org
SUMMARY:The Role of Interreligious and Intercultural Dialogue in Peace and Security
DESCRIPTION:January 13\, 2017\, 10:00 am | Conference Room 11\, United Nations Headquarters New York \nOrganized by the Permanent Mission of Hungary to the United Nations\nand the Institute for Cultural Diplomacy \nDownload (PDF\, 217KB)
URL:https://www.unaoc.org/event/the-role-of-interreligious-and-intercultural-dialogue-in-peace-and-security/
LOCATION:UNHQ Conference Room 11
CATEGORIES:Panel Discussion
END:VEVENT
END:VCALENDAR