BEGIN:VCALENDAR
VERSION:2.0
PRODID:-//United Nations Alliance of Civilizations (UNAOC) - ECPv5.14.2.1//NONSGML v1.0//EN
CALSCALE:GREGORIAN
METHOD:PUBLISH
X-WR-CALNAME:United Nations Alliance of Civilizations (UNAOC)
X-ORIGINAL-URL:https://www.unaoc.org
X-WR-CALDESC:Events for United Nations Alliance of Civilizations (UNAOC)
BEGIN:VTIMEZONE
TZID:America/Halifax
BEGIN:DAYLIGHT
TZOFFSETFROM:-0400
TZOFFSETTO:-0300
TZNAME:ADT
DTSTART:20160313T060000
END:DAYLIGHT
BEGIN:STANDARD
TZOFFSETFROM:-0300
TZOFFSETTO:-0400
TZNAME:AST
DTSTART:20161106T050000
END:STANDARD
END:VTIMEZONE
BEGIN:VEVENT
DTSTART;VALUE=DATE:20160709
DTEND;VALUE=DATE:20160710
DTSTAMP:20221113T113820
CREATED:20160622T215415Z
LAST-MODIFIED:20170324T194243Z
UID:17547-1468022400-1468108799@www.unaoc.org
SUMMARY:The Mediterranean Concert
DESCRIPTION:The Mediterranean Concert \nHuman Rights and Alliance of Civilisations Room\, United Nations\, Geneva \n\nORGANISED BY: FUNDACION ONUART\nSPONSORED BY: THE UNITED NATIONS ALLIANCE OF CIVILIZATIONS (UNAOC) \nARTISTIC PRODUCER: ORIOL FERRER\nDATE: 9th JULY 2016\n\n \nThroughout history\, this sea has been the cradle of exceptionally important civilisations\, and for centuries a variety of languages\, religions and traditions have coexisted on its shores. \nFar from being a barrier\, the Mediterranean has been a channel for communication\, a bridge between cultures\, since antiquity. Its peoples have used it as a route for the exchange of goods\, but also of knowledge and wisdom. This is perhaps why their music and song have drunk from the same source of inspiration\, and there are many influences of theme\, style and rhythm that they all share. \nThis concert\, especially organised by Fundación ONUART at the United Nations Headquarters in Geneva\, will have artists from different cultures sharing a stage\, artists with diverse tongues\, different religions\, varied styles and traditions yet all of them with one common purpose: to reclaim the Mediterranean as a meeting point of cultures. \nDownload (PDF\, 281KB) \n\nDownload (PDF\, 1.42MB) \n\nShare thisClick to share on Twitter (Opens in new window)Click to share on Facebook (Opens in new window)Click to share on LinkedIn (Opens in new window)Click to share on Pinterest (Opens in new window)Click to share on Skype (Opens in new window)Click to share on WhatsApp (Opens in new window)Click to email a link to a friend (Opens in new window)MoreClick to share on Reddit (Opens in new window)Click to share on Tumblr (Opens in new window)Click to print (Opens in new window)Click to share on Pocket (Opens in new window)Click to share on Telegram (Opens in new window)
URL:https://www.unaoc.org/event/the-mediterranean-concert/
LOCATION:Human Rights and Alliance of Civilisations Room\, United Nations\, Geneva\, United Nations Office at Geneva \, Geneva\, 1211\, Switzerland
CATEGORIES:UNAOC Events
END:VEVENT
END:VCALENDAR