BEGIN:VCALENDAR
VERSION:2.0
PRODID:-//United Nations Alliance of Civilizations (UNAOC) - ECPv5.14.2.1//NONSGML v1.0//EN
CALSCALE:GREGORIAN
METHOD:PUBLISH
X-WR-CALNAME:United Nations Alliance of Civilizations (UNAOC)
X-ORIGINAL-URL:https://www.unaoc.org
X-WR-CALDESC:Events for United Nations Alliance of Civilizations (UNAOC)
BEGIN:VTIMEZONE
TZID:America/Halifax
BEGIN:DAYLIGHT
TZOFFSETFROM:-0400
TZOFFSETTO:-0300
TZNAME:ADT
DTSTART:20190310T060000
END:DAYLIGHT
BEGIN:STANDARD
TZOFFSETFROM:-0300
TZOFFSETTO:-0400
TZNAME:AST
DTSTART:20191103T050000
END:STANDARD
END:VTIMEZONE
BEGIN:VEVENT
DTSTART;VALUE=DATE:20190715
DTEND;VALUE=DATE:20190716
DTSTAMP:20221113T152113
CREATED:20190715T134156Z
LAST-MODIFIED:20190715T134156Z
UID:26059-1563148800-1563235199@www.unaoc.org
SUMMARY:The Annual Kofi Annan Faith Briefings
DESCRIPTION:“Empowering people and ensuring inclusiveness and equality: the role of UN and Multi-Faith Collaboration” \nThe UN Interagency Task Force involves 20 UN system entities\, each participating at different levels of intensity within the Task Force. The one thing these otherwise very diverse UN offices share is their engagement with religious actors\, and/or their awareness\, and action\, around religious intersections with their respective organizational strategic	objectives. \nSince 2010\, the UN Interagency Task Force Members have been convening policy roundtables\, workshops\, seminars\, and joint initiatives around key UN intergovernmental fora (CSW\, CPD\, HLPF\, and UNGA)\, around religion and religious engagement\, and several reports\, policy outcomes and initiatives are produced as a result of these consultations. \nIn 2018\, the UN Interagency Task Force convened the first-ever United Nations Multi-Faith Advisory Council (AC). The Council is composed of the CEOs of the UN’s top global faith-based partners. The AC is committed to “uphold multilateralism and international human rights through multi-faith collaboration around/for Agenda 2030”. The CEOs of the FBOs were selected according to nominations from across the UN system entities members of the UN Interagency Task Force. To date\, each major faith tradition	is represented on the Council. \n\nDue to the combined rising relevance of religious actors on the geopolitical scene\, and the systematic engagement of many FBOs around sustainable development and humanitarian related initiatives in\, around and by the UN Task Force\, a larger number of NY and US-based NGOs are also attending HLPF-related initiatives. In other words\, these are human\, technical\, cultural and political resources “walking the UN’s corridors”\, at this time. \nThe purpose of the Kofi	Annan Faith Briefings is: \n1. To provide a dedicated and ‘regular’ space\, during a key intergovernmental moment (in this case the High-Level Political Forum/HLPF) capitalizing on the unique constellation of geopolitical and socio-cultural human capital\, well-versed in religion and religiously related affairs\, which is capable of informing\, and being	informed by\, UN	system	deliberations. \n2. To uphold the importance of strategic partnerships by the UN system with faith-based and faith-inspired civil society actors\, around the world for specific SDGs; \n3. To present and assess the diverse range of partnerships between different faith entities and between them and the UN and its member states\, as a means to realising the SDG goals; \n4. To thereby showcase the multi-faith civic support for multilateralism which is dedicated to the service of human rights\, sustainable development and peace and security. \nClick here to read more. \n\nShare thisClick to share on Twitter (Opens in new window)Click to share on Facebook (Opens in new window)Click to share on LinkedIn (Opens in new window)Click to share on Pinterest (Opens in new window)Click to share on Skype (Opens in new window)Click to share on WhatsApp (Opens in new window)Click to email a link to a friend (Opens in new window)MoreClick to share on Reddit (Opens in new window)Click to share on Tumblr (Opens in new window)Click to print (Opens in new window)Click to share on Pocket (Opens in new window)Click to share on Telegram (Opens in new window)
URL:https://www.unaoc.org/event/the-annual-kofi-annan-faith-briefings/
LOCATION:Ford Foundation\, Center for Social Justice\, 320 East 43rd Street\, New York\, United States
END:VEVENT
END:VCALENDAR