BEGIN:VCALENDAR
VERSION:2.0
PRODID:-//United Nations Alliance of Civilizations (UNAOC) - ECPv5.14.2.1//NONSGML v1.0//EN
CALSCALE:GREGORIAN
METHOD:PUBLISH
X-WR-CALNAME:United Nations Alliance of Civilizations (UNAOC)
X-ORIGINAL-URL:https://www.unaoc.org
X-WR-CALDESC:Events for United Nations Alliance of Civilizations (UNAOC)
BEGIN:VTIMEZONE
TZID:America/Halifax
BEGIN:DAYLIGHT
TZOFFSETFROM:-0400
TZOFFSETTO:-0300
TZNAME:ADT
DTSTART:20170312T060000
END:DAYLIGHT
BEGIN:STANDARD
TZOFFSETFROM:-0300
TZOFFSETTO:-0400
TZNAME:AST
DTSTART:20171105T050000
END:STANDARD
END:VTIMEZONE
BEGIN:VEVENT
DTSTART;VALUE=DATE:20170304
DTEND;VALUE=DATE:20170305
DTSTAMP:20221113T141419
CREATED:20170301T183755Z
LAST-MODIFIED:20170301T195010Z
UID:20262-1488585600-1488671999@www.unaoc.org
SUMMARY:“Seeking Refuge: Faith-Based Approaches to Forced Migration”
DESCRIPTION:The United Nations Alliance of Civilizations will be participating in the conference\, “Seeking Refuge: Faith-Based Approaches to Forced Migration” at Princeton University on 4 March 2017. The conference is part of the “Poverty and Peacemaking” series hosted by Princeton’s Office of Religious Life and the Community of Sant’Egidio. \nFor more information\, please click here.  \nShare thisClick to share on Twitter (Opens in new window)Click to share on Facebook (Opens in new window)Click to share on LinkedIn (Opens in new window)Click to share on Pinterest (Opens in new window)Click to share on Skype (Opens in new window)Click to share on WhatsApp (Opens in new window)Click to email a link to a friend (Opens in new window)MoreClick to share on Reddit (Opens in new window)Click to share on Tumblr (Opens in new window)Click to print (Opens in new window)Click to share on Pocket (Opens in new window)Click to share on Telegram (Opens in new window)
URL:https://www.unaoc.org/event/seeking-refuge-faith-based-approaches-to-forced-migration-2/
LOCATION:Princeton University\, Princeton University\, Princeton\, NJ\, 08544\, United States
CATEGORIES:International Conference
END:VEVENT
END:VCALENDAR