BEGIN:VCALENDAR
VERSION:2.0
PRODID:-//United Nations Alliance of Civilizations (UNAOC) - ECPv5.14.2.1//NONSGML v1.0//EN
CALSCALE:GREGORIAN
METHOD:PUBLISH
X-WR-CALNAME:United Nations Alliance of Civilizations (UNAOC)
X-ORIGINAL-URL:https://www.unaoc.org
X-WR-CALDESC:Events for United Nations Alliance of Civilizations (UNAOC)
BEGIN:VTIMEZONE
TZID:America/Halifax
BEGIN:DAYLIGHT
TZOFFSETFROM:-0400
TZOFFSETTO:-0300
TZNAME:ADT
DTSTART:20200308T060000
END:DAYLIGHT
BEGIN:STANDARD
TZOFFSETFROM:-0300
TZOFFSETTO:-0400
TZNAME:AST
DTSTART:20201101T050000
END:STANDARD
END:VTIMEZONE
BEGIN:VEVENT
DTSTART;TZID=America/Halifax:20201201T090000
DTEND;TZID=America/Halifax:20201201T170000
DTSTAMP:20221113T155331
CREATED:20201130T162725Z
LAST-MODIFIED:20201130T162818Z
UID:28912-1606813200-1606842000@www.unaoc.org
SUMMARY:Securing Sport Virtual Edition 2020
DESCRIPTION:Mr. Miguel Moratinos\, High Representative for UNAOC\, will participate in a session entitled “Protecting Sport in Regions in Turmoil” within the margins of the ICSS Securing Sport 2020 Virtual Edition. The session will explore ways to restore sport competitions in post-conflict countries and regions affected by turmoil\, and how sport can contribute to prosperity and stability in areas affected by crises. The discussion will focus on methods of re-building relevant capacities required for staging and managing sporting events\, at all levels\, from grassroots to professional sports\, and the possibility of organizing sporting events with an international dimension. \n\n \n\nSECURING SPORT 2020 Virtual Edition: ‘Building Resilience in an Ever-Changing World’ \nThe ICSS will convene its flagship conference Securing Sport from 01 – 04 December 2020\, in a virtual event format under the theme ‘Building Resilience in an Ever-Changing World’. Securing Sport is an international and multisectoral conference\, which was conceived to serve as a platform for discussions about the changes\, challenges and threats to sport and the opportunities sport can generate in the socio-economic context. The latest editions were hosted by the Lancaster House in London and the Council on Foreign Relations in New York. \nBy bringing together all ICSS partners and allies\, Securing Sport gives inspiration to the ICSS regarding the general work objectives and future endeavors in safeguarding sport as a common good for humankind. \nAs an open-ended platform\, Securing Sport unites international and national decision-makers\, eminent experts and gives a voice to stakeholders across sectors with the aim of inspiring collective action and identifying solutions to enhance the safety\, security and integrity of sport\, while protecting its societal values. \nIn a series of digital events – Policy Dialogues\, Expert Debates and Youth Interventions hosted by the ICSS initiative Save the Dream – set against a virtual stage backdrop\, the panels will analyse some of the most pressing current challenges facing the world of sport and address global challenges\, international approaches and ways to further strengthen multisectoral cooperation. \nRead More \nShare thisClick to share on Twitter (Opens in new window)Click to share on Facebook (Opens in new window)Click to share on LinkedIn (Opens in new window)Click to share on Pinterest (Opens in new window)Click to share on Skype (Opens in new window)Click to share on WhatsApp (Opens in new window)Click to email a link to a friend (Opens in new window)MoreClick to share on Reddit (Opens in new window)Click to share on Tumblr (Opens in new window)Click to print (Opens in new window)Click to share on Pocket (Opens in new window)Click to share on Telegram (Opens in new window)
URL:https://www.unaoc.org/event/securing-sport-virtual-edition-2020/
CATEGORIES:International Conference
END:VEVENT
END:VCALENDAR