BEGIN:VCALENDAR
VERSION:2.0
PRODID:-//United Nations Alliance of Civilizations (UNAOC) - ECPv5.14.2.1//NONSGML v1.0//EN
CALSCALE:GREGORIAN
METHOD:PUBLISH
X-WR-CALNAME:United Nations Alliance of Civilizations (UNAOC)
X-ORIGINAL-URL:https://www.unaoc.org
X-WR-CALDESC:Events for United Nations Alliance of Civilizations (UNAOC)
BEGIN:VTIMEZONE
TZID:America/Halifax
BEGIN:DAYLIGHT
TZOFFSETFROM:-0400
TZOFFSETTO:-0300
TZNAME:ADT
DTSTART:20170312T060000
END:DAYLIGHT
BEGIN:STANDARD
TZOFFSETFROM:-0300
TZOFFSETTO:-0400
TZNAME:AST
DTSTART:20171105T050000
END:STANDARD
END:VTIMEZONE
BEGIN:VEVENT
DTSTART;VALUE=DATE:20170212
DTEND;VALUE=DATE:20170217
DTSTAMP:20221113T113727
CREATED:20170201T212235Z
LAST-MODIFIED:20170201T213251Z
UID:19889-1486857600-1487289599@www.unaoc.org
SUMMARY:Second Intercultural Innovation Award Capacity Building Workshop
DESCRIPTION:Summary: \nThe ten recipients of the Intercultural Innovation Award at the 7th UNAOC Global Forum will take part in their second capacity building workshop\, to be held at various locations in Delhi and Gurgaon\, India. The workshop will be focused on leadership\, organizational development and sustainability\, in addition to monitoring and evaluation. \nDate: \n12 February to 16 February \nLocation: \nGurgaon\, India \nShare thisClick to share on Twitter (Opens in new window)Click to share on Facebook (Opens in new window)Click to share on LinkedIn (Opens in new window)Click to share on Pinterest (Opens in new window)Click to share on Skype (Opens in new window)Click to share on WhatsApp (Opens in new window)Click to email a link to a friend (Opens in new window)MoreClick to share on Reddit (Opens in new window)Click to share on Tumblr (Opens in new window)Click to print (Opens in new window)Click to share on Pocket (Opens in new window)Click to share on Telegram (Opens in new window)
URL:https://www.unaoc.org/event/second-iia-capacity-building-workshop/
LOCATION:Gurgaon\, India
CATEGORIES:UNAOC Events
END:VEVENT
END:VCALENDAR