BEGIN:VCALENDAR
VERSION:2.0
PRODID:-//United Nations Alliance of Civilizations (UNAOC) - ECPv5.14.2.1//NONSGML v1.0//EN
CALSCALE:GREGORIAN
METHOD:PUBLISH
X-WR-CALNAME:United Nations Alliance of Civilizations (UNAOC)
X-ORIGINAL-URL:https://www.unaoc.org
X-WR-CALDESC:Events for United Nations Alliance of Civilizations (UNAOC)
BEGIN:VTIMEZONE
TZID:America/Halifax
BEGIN:DAYLIGHT
TZOFFSETFROM:-0400
TZOFFSETTO:-0300
TZNAME:ADT
DTSTART:20160313T060000
END:DAYLIGHT
BEGIN:STANDARD
TZOFFSETFROM:-0300
TZOFFSETTO:-0400
TZNAME:AST
DTSTART:20161106T050000
END:STANDARD
END:VTIMEZONE
BEGIN:VEVENT
DTSTART;TZID=America/Halifax:20161017T190000
DTEND;TZID=America/Halifax:20161017T203000
DTSTAMP:20221113T145253
CREATED:20161007T140432Z
LAST-MODIFIED:20170324T193807Z
UID:18214-1476730800-1476736200@www.unaoc.org
SUMMARY:Screening of PLURAL+ award winning videos in Jordan
DESCRIPTION:The Royal Film Commission of Jordan in association with PLURAL+ presents a selection of PLURAL+ award winning videos\, including: \n“After the Parting” by Faten Wasim Alnabelsy\, Jordan\, PLURAL+ 2009 award winner\n“You Can” by Omar Hbosh\, Abd-­‐Alhakeem Abu Saed\, Ahmad Amoghraby and Hussein Abu Subhiyah\,Jordan\, PLURAL+ 2010 award winner\n“As I Want” by Alaa Al Sa’di\, Jordan\, PLURAL+ 2013 award winner\n“Blue Eyes” by Al-­‐Mothana Al-­‐Ghazzawi & Anas Yahya\, PLURAL+ 2014 award winner\n“The Girl\, Whose Shadow Reflects the Moon” by Walaa\, Syrian young refugee\, PLURAL+ 2015 award winner\n“Exit Right” by Rupert Holler & Bernhard Wenger\, Austria\, PLURAL+ 2015 award winner\n“Another Kind of Girl” by Khaldiya\, Syrian young refugee\, PLURAL+ 2015 award winner\n“Inspire” by Awais Ali & Shehroze Khan\, UK\, PLURAL+ 2015 award winner\n“Unfinished Tales: Fool’s Paradise” by Hussam Ismail\, Jordan\, PLURAL+ 2016 award winner\n“I’m Human” by Razan Haikal\, Jordan\, PLURAL+ 2016 award winner \nFollowed up by a discussion with the filmmakers and Nada Doumani\, Communication and Culture Manager; Royal Film Commission Jordan\, Enrico Ponziani\, IOM Chief Jordan; Jordi Torrent\, Project Manager\, Media Literacy Education\, UNAOC. \nDownload (PDF\, 509KB) \n\nShare thisClick to share on Twitter (Opens in new window)Click to share on Facebook (Opens in new window)Click to share on LinkedIn (Opens in new window)Click to share on Pinterest (Opens in new window)Click to share on Skype (Opens in new window)Click to share on WhatsApp (Opens in new window)Click to email a link to a friend (Opens in new window)MoreClick to share on Reddit (Opens in new window)Click to share on Tumblr (Opens in new window)Click to print (Opens in new window)Click to share on Pocket (Opens in new window)Click to share on Telegram (Opens in new window)
URL:https://www.unaoc.org/event/screening-of-pluralplus-videos-in-jordan/
LOCATION:The Rainbow Theater\, Mohammad Rida Street\, First Circle\, Amman \, Jordan
CATEGORIES:UNAOC Events
END:VEVENT
END:VCALENDAR