BEGIN:VCALENDAR
VERSION:2.0
PRODID:-//United Nations Alliance of Civilizations (UNAOC) - ECPv5.14.2.1//NONSGML v1.0//EN
CALSCALE:GREGORIAN
METHOD:PUBLISH
X-WR-CALNAME:United Nations Alliance of Civilizations (UNAOC)
X-ORIGINAL-URL:https://www.unaoc.org
X-WR-CALDESC:Events for United Nations Alliance of Civilizations (UNAOC)
BEGIN:VTIMEZONE
TZID:America/Halifax
BEGIN:DAYLIGHT
TZOFFSETFROM:-0400
TZOFFSETTO:-0300
TZNAME:ADT
DTSTART:20190310T060000
END:DAYLIGHT
BEGIN:STANDARD
TZOFFSETFROM:-0300
TZOFFSETTO:-0400
TZNAME:AST
DTSTART:20191103T050000
END:STANDARD
END:VTIMEZONE
BEGIN:VEVENT
DTSTART;TZID=America/Halifax:20190425T183000
DTEND;TZID=America/Halifax:20190425T200000
DTSTAMP:20221113T145525
CREATED:20190423T164100Z
LAST-MODIFIED:20190423T190411Z
UID:25152-1556217000-1556222400@www.unaoc.org
SUMMARY:Rights to Indigenous Communications: Honoring our Cultures\, Languages\, and Traditions through Digital Literacy and Storytelling
DESCRIPTION:As part of the 18th session of the Permanent Forum on Indigenous Issues from 22 April to 3 May 2019\, the United Nations Alliance of Civilizations (UNAOC) will participate in a side event entitled “Rights to Indigenous Communications: Honoring our cultures\, languages and traditions through digital storytelling” and organized by Wapikoni mobile\, the Coordinadora Latinoamericana de Cine y Comunicación de los Pueblos Indígenas (CLACPI)\, Isuma TV\, and Cultural Survival. The side event will highlight the different issues that Indigenous filmmakers and communicators face in various countries in Latin America as well as in Canada and present the impacts of media initiatives. It will showcase Indigenous short films. \nShare thisClick to share on Twitter (Opens in new window)Click to share on Facebook (Opens in new window)Click to share on LinkedIn (Opens in new window)Click to share on Pinterest (Opens in new window)Click to share on Skype (Opens in new window)Click to share on WhatsApp (Opens in new window)Click to email a link to a friend (Opens in new window)MoreClick to share on Reddit (Opens in new window)Click to share on Tumblr (Opens in new window)Click to print (Opens in new window)Click to share on Pocket (Opens in new window)Click to share on Telegram (Opens in new window)
URL:https://www.unaoc.org/event/rights-to-indigenous-communications-honoring-our-cultures-languages-and-traditions-through-digital-literacy-and-storytelling/
LOCATION:UNHQ Conference Room 6\, United Nations Headquarters\, New York\, NY\, 10017\, United States
CATEGORIES:Panel Discussion
END:VEVENT
END:VCALENDAR