BEGIN:VCALENDAR
VERSION:2.0
PRODID:-//United Nations Alliance of Civilizations (UNAOC) - ECPv5.14.2.1//NONSGML v1.0//EN
CALSCALE:GREGORIAN
METHOD:PUBLISH
X-WR-CALNAME:United Nations Alliance of Civilizations (UNAOC)
X-ORIGINAL-URL:https://www.unaoc.org
X-WR-CALDESC:Events for United Nations Alliance of Civilizations (UNAOC)
BEGIN:VTIMEZONE
TZID:America/Halifax
BEGIN:DAYLIGHT
TZOFFSETFROM:-0400
TZOFFSETTO:-0300
TZNAME:ADT
DTSTART:20190310T060000
END:DAYLIGHT
BEGIN:STANDARD
TZOFFSETFROM:-0300
TZOFFSETTO:-0400
TZNAME:AST
DTSTART:20191103T050000
END:STANDARD
END:VTIMEZONE
BEGIN:VEVENT
DTSTART;VALUE=DATE:20190820
DTEND;VALUE=DATE:20190824
DTSTAMP:20221113T153718
CREATED:20190820T140021Z
LAST-MODIFIED:20190820T173145Z
UID:26166-1566259200-1566604799@www.unaoc.org
SUMMARY:Religions for Peace 10th World Assembly
DESCRIPTION:The UNAOC High Representative\, H.E. Mr. Miguel Ángel Moratinos\, is participating in the Religions for Peace 10th World Assembly from 20–23 August 2019 in Lindau\, Germany. \nWith a theme of “Caring for our Common Future—Advancing Shared Well-Being”\, the Assembly will host senior religious leaders\, youth and women of faith\, government representatives\, intergovernmental organizations and civil society groups to forge multi-stakeholder partnerships for the common good. \nShare thisClick to share on Twitter (Opens in new window)Click to share on Facebook (Opens in new window)Click to share on LinkedIn (Opens in new window)Click to share on Pinterest (Opens in new window)Click to share on Skype (Opens in new window)Click to share on WhatsApp (Opens in new window)Click to email a link to a friend (Opens in new window)MoreClick to share on Reddit (Opens in new window)Click to share on Tumblr (Opens in new window)Click to print (Opens in new window)Click to share on Pocket (Opens in new window)Click to share on Telegram (Opens in new window)
URL:https://www.unaoc.org/event/religions-for-peace-10th-world-assembly/
LOCATION:Lindau\, Germany\, Lindau\, Germany
CATEGORIES:International Conference
END:VEVENT
END:VCALENDAR