BEGIN:VCALENDAR
VERSION:2.0
PRODID:-//United Nations Alliance of Civilizations (UNAOC) - ECPv6.15.20//NONSGML v1.0//EN
CALSCALE:GREGORIAN
METHOD:PUBLISH
X-WR-CALNAME:United Nations Alliance of Civilizations (UNAOC)
X-ORIGINAL-URL:https://www.unaoc.org
X-WR-CALDESC:Events for United Nations Alliance of Civilizations (UNAOC)
REFRESH-INTERVAL;VALUE=DURATION:PT1H
X-Robots-Tag:noindex
X-PUBLISHED-TTL:PT1H
BEGIN:VTIMEZONE
TZID:America/Halifax
BEGIN:DAYLIGHT
TZOFFSETFROM:-0400
TZOFFSETTO:-0300
TZNAME:ADT
DTSTART:20150308T060000
END:DAYLIGHT
BEGIN:STANDARD
TZOFFSETFROM:-0300
TZOFFSETTO:-0400
TZNAME:AST
DTSTART:20151101T050000
END:STANDARD
BEGIN:DAYLIGHT
TZOFFSETFROM:-0400
TZOFFSETTO:-0300
TZNAME:ADT
DTSTART:20160313T060000
END:DAYLIGHT
BEGIN:STANDARD
TZOFFSETFROM:-0300
TZOFFSETTO:-0400
TZNAME:AST
DTSTART:20161106T050000
END:STANDARD
BEGIN:DAYLIGHT
TZOFFSETFROM:-0400
TZOFFSETTO:-0300
TZNAME:ADT
DTSTART:20170312T060000
END:DAYLIGHT
BEGIN:STANDARD
TZOFFSETFROM:-0300
TZOFFSETTO:-0400
TZNAME:AST
DTSTART:20171105T050000
END:STANDARD
END:VTIMEZONE
BEGIN:VEVENT
DTSTART;VALUE=DATE:20161030
DTEND;VALUE=DATE:20161102
DTSTAMP:20260422T021425
CREATED:20161024T141520Z
LAST-MODIFIED:20161024T141520Z
UID:18273-1477785600-1478044799@www.unaoc.org
SUMMARY:Québec-UNESCO Conference: "Internet and the Radicalization of Youth: Preventing\, acting and living together"
DESCRIPTION:Quebec City\, Canada | October 30 – November 1  \nUNAOC is participating in a workshop entitled\, “Hate speech\, extremist propaganda\, freedom of expression\, Internet and media.” This 90-minute workshop will reunite approximately five experts from different sector of activities who will discuss the problem of hate speech\, its media treatment\, and its online and media regulations. Click here for more details.
URL:https://www.unaoc.org/event/quebec-unesco-internet-radicalization-of-youth-preventing-acting-and-living-together/
LOCATION:Quebec City\, Canada\, Quebec City\, Canada
CATEGORIES:Panel Discussion
END:VEVENT
END:VCALENDAR