BEGIN:VCALENDAR
VERSION:2.0
PRODID:-//United Nations Alliance of Civilizations (UNAOC) - ECPv5.14.2.1//NONSGML v1.0//EN
CALSCALE:GREGORIAN
METHOD:PUBLISH
X-WR-CALNAME:United Nations Alliance of Civilizations (UNAOC)
X-ORIGINAL-URL:https://www.unaoc.org
X-WR-CALDESC:Events for United Nations Alliance of Civilizations (UNAOC)
BEGIN:VTIMEZONE
TZID:America/Halifax
BEGIN:DAYLIGHT
TZOFFSETFROM:-0400
TZOFFSETTO:-0300
TZNAME:ADT
DTSTART:20160313T060000
END:DAYLIGHT
BEGIN:STANDARD
TZOFFSETFROM:-0300
TZOFFSETTO:-0400
TZNAME:AST
DTSTART:20161106T050000
END:STANDARD
END:VTIMEZONE
BEGIN:VEVENT
DTSTART;TZID=America/Halifax:20160602T100000
DTEND;TZID=America/Halifax:20160602T130000
DTSTAMP:20221113T153817
CREATED:20160531T212713Z
LAST-MODIFIED:20160531T212736Z
UID:17480-1464861600-1464872400@www.unaoc.org
SUMMARY:Promoting Migrant Integration and Combating Xenophobia
DESCRIPTION:Organized by the International Organization for Migration (IOM)\nIn collaboration with the Permanent Missions of Canada and South Africa to the UN \n \nShare thisClick to share on Twitter (Opens in new window)Click to share on Facebook (Opens in new window)Click to share on LinkedIn (Opens in new window)Click to share on Pinterest (Opens in new window)Click to share on Skype (Opens in new window)Click to share on WhatsApp (Opens in new window)Click to email a link to a friend (Opens in new window)MoreClick to share on Reddit (Opens in new window)Click to share on Tumblr (Opens in new window)Click to print (Opens in new window)Click to share on Pocket (Opens in new window)Click to share on Telegram (Opens in new window)
URL:https://www.unaoc.org/event/promoting-migrant-integration-combating-xenophobia/
LOCATION:UNHQ\, CB\, Conference Room 3
CATEGORIES:Panel Discussion,UNAOC Events
END:VEVENT
END:VCALENDAR