BEGIN:VCALENDAR
VERSION:2.0
PRODID:-//United Nations Alliance of Civilizations (UNAOC) - ECPv5.14.2.1//NONSGML v1.0//EN
CALSCALE:GREGORIAN
METHOD:PUBLISH
X-WR-CALNAME:United Nations Alliance of Civilizations (UNAOC)
X-ORIGINAL-URL:https://www.unaoc.org
X-WR-CALDESC:Events for United Nations Alliance of Civilizations (UNAOC)
BEGIN:VTIMEZONE
TZID:America/Halifax
BEGIN:DAYLIGHT
TZOFFSETFROM:-0400
TZOFFSETTO:-0300
TZNAME:ADT
DTSTART:20170312T060000
END:DAYLIGHT
BEGIN:STANDARD
TZOFFSETFROM:-0300
TZOFFSETTO:-0400
TZNAME:AST
DTSTART:20171105T050000
END:STANDARD
END:VTIMEZONE
BEGIN:VEVENT
DTSTART;TZID=America/Halifax:20170320T150000
DTEND;TZID=America/Halifax:20170320T163000
DTSTAMP:20221113T111533
CREATED:20170307T203750Z
LAST-MODIFIED:20170324T192622Z
UID:20313-1490022000-1490027400@www.unaoc.org
SUMMARY:Preventative Diplomacy: A Soft Power Tool (Closed Event. By Invitation Only.)
DESCRIPTION:UNAOC is hosting a round-table discussion entitled: “Preventive Diplomacy: A Soft Power Tool” which will consist of an opening statement by the UNAOC High Representative\, an address by Dr. Cahill and short presentations by invited speakers. The speakers will be followed by a moderated Q & A session. \nThe main objective of this event is to draw attention to the importance of moving swiftly to support the Secretary-General’s commitment to the concept and practice of conflict prevention. \nClosed Event. By Invitation Only.\nWatch live through the web stream  \n\nDownload (PDF\, 599KB) \n\nShare thisClick to share on Twitter (Opens in new window)Click to share on Facebook (Opens in new window)Click to share on LinkedIn (Opens in new window)Click to share on Pinterest (Opens in new window)Click to share on Skype (Opens in new window)Click to share on WhatsApp (Opens in new window)Click to email a link to a friend (Opens in new window)MoreClick to share on Reddit (Opens in new window)Click to share on Tumblr (Opens in new window)Click to print (Opens in new window)Click to share on Pocket (Opens in new window)Click to share on Telegram (Opens in new window)
URL:https://www.unaoc.org/event/preventative-diplomacy-a-soft-power-tool/
LOCATION:Conference Room 9\, UNHQ\, New York\, NY\, United States
CATEGORIES:Panel Discussion,UNAOC Events
END:VEVENT
END:VCALENDAR