BEGIN:VCALENDAR
VERSION:2.0
PRODID:-//United Nations Alliance of Civilizations (UNAOC) - ECPv5.14.2.1//NONSGML v1.0//EN
CALSCALE:GREGORIAN
METHOD:PUBLISH
X-WR-CALNAME:United Nations Alliance of Civilizations (UNAOC)
X-ORIGINAL-URL:https://www.unaoc.org
X-WR-CALDESC:Events for United Nations Alliance of Civilizations (UNAOC)
BEGIN:VTIMEZONE
TZID:America/Halifax
BEGIN:DAYLIGHT
TZOFFSETFROM:-0400
TZOFFSETTO:-0300
TZNAME:ADT
DTSTART:20190310T060000
END:DAYLIGHT
BEGIN:STANDARD
TZOFFSETFROM:-0300
TZOFFSETTO:-0400
TZNAME:AST
DTSTART:20191103T050000
END:STANDARD
END:VTIMEZONE
BEGIN:VEVENT
DTSTART;TZID=America/Halifax:20190325T140000
DTEND;TZID=America/Halifax:20190325T150000
DTSTAMP:20221113T155706
CREATED:20190318T223541Z
LAST-MODIFIED:20190331T131417Z
UID:25035-1553522400-1553526000@www.unaoc.org
SUMMARY:Press Briefing by UNAOC High Representative at UNOG
DESCRIPTION:Access to press briefings is strictly limited to accredited journalists.\n\n\nPress Briefing\n High Representative of the United Nations Alliance of Civilizations \nSubject:\nHigh Representative for UNAOC to present his renewed vision for UNAOC and how to make it more operational & result-oriented in addressing xenophobia\, intolerance and hate speech. \nSpeaker:\nMiguel Moratinos\, High Representative for the UN Alliance of Civilizations (UNAOC) \nDate/time:\nMonday\, 25 March at 2.00 p.m. \nPlace: Press Room 1\, United Nations Office at Geneva (UNOG)\nPalais des Nations\, Geneva\, Switzerland \nContact:\nMs. Nihal Saad\, UNAOC Chief of Cabinet and Spokesperson for the High Representative\nsaadn@un.org; +1 646 255 4664 \nShare thisClick to share on Twitter (Opens in new window)Click to share on Facebook (Opens in new window)Click to share on LinkedIn (Opens in new window)Click to share on Pinterest (Opens in new window)Click to share on Skype (Opens in new window)Click to share on WhatsApp (Opens in new window)Click to email a link to a friend (Opens in new window)MoreClick to share on Reddit (Opens in new window)Click to share on Tumblr (Opens in new window)Click to print (Opens in new window)Click to share on Pocket (Opens in new window)Click to share on Telegram (Opens in new window)
URL:https://www.unaoc.org/event/press-conference-by-unaoc-high-representative-at-unog/
LOCATION:United Nations Office at Geneva (UNOG)\, Palais des Nations\, Geneva\, Switzerland
END:VEVENT
END:VCALENDAR