BEGIN:VCALENDAR
VERSION:2.0
PRODID:-//United Nations Alliance of Civilizations (UNAOC) - ECPv5.14.2.1//NONSGML v1.0//EN
CALSCALE:GREGORIAN
METHOD:PUBLISH
X-WR-CALNAME:United Nations Alliance of Civilizations (UNAOC)
X-ORIGINAL-URL:https://www.unaoc.org
X-WR-CALDESC:Events for United Nations Alliance of Civilizations (UNAOC)
BEGIN:VTIMEZONE
TZID:America/Halifax
BEGIN:DAYLIGHT
TZOFFSETFROM:-0400
TZOFFSETTO:-0300
TZNAME:ADT
DTSTART:20130310T060000
END:DAYLIGHT
BEGIN:STANDARD
TZOFFSETFROM:-0300
TZOFFSETTO:-0400
TZNAME:AST
DTSTART:20131103T050000
END:STANDARD
END:VTIMEZONE
BEGIN:VEVENT
DTSTART;VALUE=DATE:20130630
DTEND;VALUE=DATE:20130701
DTSTAMP:20221113T163121
CREATED:20130612T221220Z
LAST-MODIFIED:20130628T220022Z
UID:8711-1372550400-1372636799@www.unaoc.org
SUMMARY:PLURAL+ Youth Video Festival Call for Entries
DESCRIPTION:Submit your videos now up until June 30th\, 2013\nhttp://pluralplus.unaoc.org/submit/ \nRecognizing youth as powerful agents of social change in a world often characterized by intolerance\, and cultural and religious divisions\, PLURAL+ invites youth to address key challenges related to migrant integration\, inclusiveness\, identity\, diversity\, human rights and social cohesiveness\, both at local and global levels. Young people up to 25 years old are invited to submit short videos of five minutes maximum in length. \nA prestigious international jury will select three winners in each age categories (9-12\, 13-17\, and 18-25). One representative of each PLURAL+ International Jury Award winner will be invited to New York\, all travel expenses paid\, to present their work at the PLURAL+ 2013 Awards Ceremony at the Paley Center for Media on December 5\, 2013. Additional awards will be given by collaborating partners and may include equipment or professional opportunities. \nRead more about how to submit your videos here. \nWatch the PLURAL+ 2012 winning videos here. \nShare thisClick to share on Twitter (Opens in new window)Click to share on Facebook (Opens in new window)Click to share on LinkedIn (Opens in new window)Click to share on Pinterest (Opens in new window)Click to share on Skype (Opens in new window)Click to share on WhatsApp (Opens in new window)Click to email a link to a friend (Opens in new window)MoreClick to share on Reddit (Opens in new window)Click to share on Tumblr (Opens in new window)Click to print (Opens in new window)Click to share on Pocket (Opens in new window)Click to share on Telegram (Opens in new window)
URL:https://www.unaoc.org/event/plural-youth-video-festival-call-for-entries/
CATEGORIES:Calls For Applications
END:VEVENT
END:VCALENDAR