BEGIN:VCALENDAR
VERSION:2.0
PRODID:-//United Nations Alliance of Civilizations (UNAOC) - ECPv5.14.2.1//NONSGML v1.0//EN
CALSCALE:GREGORIAN
METHOD:PUBLISH
X-WR-CALNAME:United Nations Alliance of Civilizations (UNAOC)
X-ORIGINAL-URL:https://www.unaoc.org
X-WR-CALDESC:Events for United Nations Alliance of Civilizations (UNAOC)
BEGIN:VTIMEZONE
TZID:America/Halifax
BEGIN:DAYLIGHT
TZOFFSETFROM:-0400
TZOFFSETTO:-0300
TZNAME:ADT
DTSTART:20140309T060000
END:DAYLIGHT
BEGIN:STANDARD
TZOFFSETFROM:-0300
TZOFFSETTO:-0400
TZNAME:AST
DTSTART:20141102T050000
END:STANDARD
END:VTIMEZONE
BEGIN:VEVENT
DTSTART;VALUE=DATE:20140627
DTEND;VALUE=DATE:20140628
DTSTAMP:20221113T162836
CREATED:20140218T224448Z
LAST-MODIFIED:20140513T172924Z
UID:9665-1403827200-1403913599@www.unaoc.org
SUMMARY:Plural+ Youth Video Festival 2014
DESCRIPTION:PLURAL+ 2014 Call for Entries is open! Looking forward to your videos. \nThe United Nations Alliance of Civilizations (UNAOC) and the International Organization for Migration (IOM) again invite the world’s youth to submit original and creative videos focusing on PLURAL+ themes: migration\, diversity and social inclusion. \nRecognizing youth as powerful agents of social change in a world often characterized by intolerance\, and cultural and religious divisions\, PLURAL+ invites youth to address key challenges related to migrant integration\, inclusiveness\, identity\, diversity\, human rights and social cohesiveness\, both at local and global levels. Young people up to 25 years old are invited to submit short videos of five minutes maximum in length. \nVisit http://pluralplus.unaoc.org for more information. \nShare thisClick to share on Twitter (Opens in new window)Click to share on Facebook (Opens in new window)Click to share on LinkedIn (Opens in new window)Click to share on Pinterest (Opens in new window)Click to share on Skype (Opens in new window)Click to share on WhatsApp (Opens in new window)Click to email a link to a friend (Opens in new window)MoreClick to share on Reddit (Opens in new window)Click to share on Tumblr (Opens in new window)Click to print (Opens in new window)Click to share on Pocket (Opens in new window)Click to share on Telegram (Opens in new window)
URL:https://www.unaoc.org/event/plural-youth-video-festival-2014/
CATEGORIES:Calls For Applications
END:VEVENT
END:VCALENDAR