BEGIN:VCALENDAR
VERSION:2.0
PRODID:-//United Nations Alliance of Civilizations (UNAOC) - ECPv5.14.2.1//NONSGML v1.0//EN
CALSCALE:GREGORIAN
METHOD:PUBLISH
X-WR-CALNAME:United Nations Alliance of Civilizations (UNAOC)
X-ORIGINAL-URL:https://www.unaoc.org
X-WR-CALDESC:Events for United Nations Alliance of Civilizations (UNAOC)
BEGIN:VTIMEZONE
TZID:America/Halifax
BEGIN:DAYLIGHT
TZOFFSETFROM:-0400
TZOFFSETTO:-0300
TZNAME:ADT
DTSTART:20190310T060000
END:DAYLIGHT
BEGIN:STANDARD
TZOFFSETFROM:-0300
TZOFFSETTO:-0400
TZNAME:AST
DTSTART:20191103T050000
END:STANDARD
END:VTIMEZONE
BEGIN:VEVENT
DTSTART;VALUE=DATE:20190701
DTEND;VALUE=DATE:20190726
DTSTAMP:20221113T125604
CREATED:20190621T182926Z
LAST-MODIFIED:20190702T205844Z
UID:25699-1561939200-1564099199@www.unaoc.org
SUMMARY:PLURAL+ Pre-selection Screenings
DESCRIPTION:As part of the pre-selection process of the PLURAL+ Youth Video Festival on migration\, diversity\, social inclusion\, and the prevention of xenophobia\, United Nations colleagues and other professionals working in relevant fields are invited to watch\, evaluate\, and score PLURAL+ videos entries. Once a shortlist is finalized\, it will be shared with the PLURAL+ International Jury\, and PLURAL+ winners will be announced in the fall. \nShare thisClick to share on Twitter (Opens in new window)Click to share on Facebook (Opens in new window)Click to share on LinkedIn (Opens in new window)Click to share on Pinterest (Opens in new window)Click to share on Skype (Opens in new window)Click to share on WhatsApp (Opens in new window)Click to email a link to a friend (Opens in new window)MoreClick to share on Reddit (Opens in new window)Click to share on Tumblr (Opens in new window)Click to print (Opens in new window)Click to share on Pocket (Opens in new window)Click to share on Telegram (Opens in new window)
URL:https://www.unaoc.org/event/plural-pre-selection-screenings/
LOCATION:United Nations Alliance of Civilizations (UNAOC)\, 730 Third Avenue\, 20th Floor\, New York\, NY\, 10017\, United States
CATEGORIES:UNAOC Events
END:VEVENT
END:VCALENDAR