BEGIN:VCALENDAR
VERSION:2.0
PRODID:-//United Nations Alliance of Civilizations (UNAOC) - ECPv5.14.2.1//NONSGML v1.0//EN
CALSCALE:GREGORIAN
METHOD:PUBLISH
X-WR-CALNAME:United Nations Alliance of Civilizations (UNAOC)
X-ORIGINAL-URL:https://www.unaoc.org
X-WR-CALDESC:Events for United Nations Alliance of Civilizations (UNAOC)
BEGIN:VTIMEZONE
TZID:America/Halifax
BEGIN:DAYLIGHT
TZOFFSETFROM:-0400
TZOFFSETTO:-0300
TZNAME:ADT
DTSTART:20190310T060000
END:DAYLIGHT
BEGIN:STANDARD
TZOFFSETFROM:-0300
TZOFFSETTO:-0400
TZNAME:AST
DTSTART:20191103T050000
END:STANDARD
END:VTIMEZONE
BEGIN:VEVENT
DTSTART;VALUE=DATE:20190408
DTEND;VALUE=DATE:20190410
DTSTAMP:20221113T154636
CREATED:20190408T121819Z
LAST-MODIFIED:20190408T121819Z
UID:25110-1554681600-1554854399@www.unaoc.org
SUMMARY:PLURAL+ Photo Exhibition during the ECOSOC Youth Forum
DESCRIPTION:As part of the 2019 ECOSOC Youth Forum\, the United Nations Alliance of Civilizations (UNAOC) is exhibiting photos from its PLURAL+ Youth Video Festival. PLURAL+ is a joint initiative of UNAOC and the International Organization for Migration (IOM) that invites the world’s youth every year to submit original and creative videos focusing on the themes of migration\, diversity\, social inclusion\, and the prevention of xenophobia. The goal of the exhibition is to raise awareness about PLURAL+ and encourage the 1\,000+ youth attending the Forum to submit their short videos by 16 June 2019. \n \nShare thisClick to share on Twitter (Opens in new window)Click to share on Facebook (Opens in new window)Click to share on LinkedIn (Opens in new window)Click to share on Pinterest (Opens in new window)Click to share on Skype (Opens in new window)Click to share on WhatsApp (Opens in new window)Click to email a link to a friend (Opens in new window)MoreClick to share on Reddit (Opens in new window)Click to share on Tumblr (Opens in new window)Click to print (Opens in new window)Click to share on Pocket (Opens in new window)Click to share on Telegram (Opens in new window)
URL:https://www.unaoc.org/event/plural-photo-exhibition-during-the-ecosoc-youth-forum/
END:VEVENT
END:VCALENDAR