BEGIN:VCALENDAR
VERSION:2.0
PRODID:-//United Nations Alliance of Civilizations (UNAOC) - ECPv5.14.2.1//NONSGML v1.0//EN
CALSCALE:GREGORIAN
METHOD:PUBLISH
X-WR-CALNAME:United Nations Alliance of Civilizations (UNAOC)
X-ORIGINAL-URL:https://www.unaoc.org
X-WR-CALDESC:Events for United Nations Alliance of Civilizations (UNAOC)
BEGIN:VTIMEZONE
TZID:America/Halifax
BEGIN:DAYLIGHT
TZOFFSETFROM:-0400
TZOFFSETTO:-0300
TZNAME:ADT
DTSTART:20130310T060000
END:DAYLIGHT
BEGIN:STANDARD
TZOFFSETFROM:-0300
TZOFFSETTO:-0400
TZNAME:AST
DTSTART:20131103T050000
END:STANDARD
END:VTIMEZONE
BEGIN:VEVENT
DTSTART;TZID=America/Halifax:20131205T180000
DTEND;TZID=America/Halifax:20131205T200000
DTSTAMP:20221113T163031
CREATED:20131003T183118Z
LAST-MODIFIED:20131107T202733Z
UID:9233-1386266400-1386273600@www.unaoc.org
SUMMARY:PLURAL+ 2013 Awards Ceremony
DESCRIPTION:PLURAL+ is a join initiative of UNAOC and IOM which awards youth-produced videos on migration\, diversity and social inclusion. To further empower youth voices on these topics\, PLURAL+ is a platform of distribution of the selected videos\, facilitating the presentation of  PLURAL+ videos in multiple platforms and  venues worldwide. Awarded youth media makers from around the world will participate at the Awards Ceremony. \nFor more information on the 2013 Winners [PDF]\nView the 2013 Winning Videos on the PLURAL+ website \nShare thisClick to share on Twitter (Opens in new window)Click to share on Facebook (Opens in new window)Click to share on LinkedIn (Opens in new window)Click to share on Pinterest (Opens in new window)Click to share on Skype (Opens in new window)Click to share on WhatsApp (Opens in new window)Click to email a link to a friend (Opens in new window)MoreClick to share on Reddit (Opens in new window)Click to share on Tumblr (Opens in new window)Click to print (Opens in new window)Click to share on Pocket (Opens in new window)Click to share on Telegram (Opens in new window)
URL:https://www.unaoc.org/event/plural-2013-awards-ceremony/
LOCATION:The Paley Center for Media\, 25 W 52nd St\, New York\, NY\, 10019\, United States
END:VEVENT
END:VCALENDAR