BEGIN:VCALENDAR
VERSION:2.0
PRODID:-//United Nations Alliance of Civilizations (UNAOC) - ECPv5.14.2.1//NONSGML v1.0//EN
CALSCALE:GREGORIAN
METHOD:PUBLISH
X-WR-CALNAME:United Nations Alliance of Civilizations (UNAOC)
X-ORIGINAL-URL:https://www.unaoc.org
X-WR-CALDESC:Events for United Nations Alliance of Civilizations (UNAOC)
BEGIN:VTIMEZONE
TZID:America/Halifax
BEGIN:DAYLIGHT
TZOFFSETFROM:-0400
TZOFFSETTO:-0300
TZNAME:ADT
DTSTART:20190310T060000
END:DAYLIGHT
BEGIN:STANDARD
TZOFFSETFROM:-0300
TZOFFSETTO:-0400
TZNAME:AST
DTSTART:20191103T050000
END:STANDARD
END:VTIMEZONE
BEGIN:VEVENT
DTSTART;TZID=America/Halifax:20190627T150000
DTEND;TZID=America/Halifax:20190627T180000
DTSTAMP:20221113T111128
CREATED:20190626T134712Z
LAST-MODIFIED:20190626T134712Z
UID:25953-1561647600-1561658400@www.unaoc.org
SUMMARY:Open briefing of the Counter-Terrorism Committee: The protection of “soft” targets through local engagement and public-private partnerships
DESCRIPTION:On 27 June 2019\, the United Nations Security Council Counter-Terrorism Committee (CTC)\, will hold an open briefing on “The protection of “soft” targets through local engagement and public-private partnerships.” In its resolution 2396 (2017)\, the Security Council stresses the need for States to develop\, review\, or amend national risk and threat assessments to take into account “soft” targets\, in order to develop appropriate contingency and emergency-response plans for terrorist attacks. It also calls on States to establish or strengthen national\, regional\, and international partnerships with public and private stakeholders and to share information and experiences in order to prevent\, protect\, mitigate\, investigate\, respond to\, and recover from damage from terrorist attacks against “soft” targets. Click here to learn more. \nShare thisClick to share on Twitter (Opens in new window)Click to share on Facebook (Opens in new window)Click to share on LinkedIn (Opens in new window)Click to share on Pinterest (Opens in new window)Click to share on Skype (Opens in new window)Click to share on WhatsApp (Opens in new window)Click to email a link to a friend (Opens in new window)MoreClick to share on Reddit (Opens in new window)Click to share on Tumblr (Opens in new window)Click to print (Opens in new window)Click to share on Pocket (Opens in new window)Click to share on Telegram (Opens in new window)
URL:https://www.unaoc.org/event/open-briefing-of-the-counter-terrorism-committee-the-protection-of-soft-targets-through-local-engagement-and-public-private-partnerships/
LOCATION:UN Headquarters\, Conference Room 2\, United Nations Headquarters\, New York\, NY\, United States
END:VEVENT
END:VCALENDAR