BEGIN:VCALENDAR
VERSION:2.0
PRODID:-//United Nations Alliance of Civilizations (UNAOC) - ECPv5.14.2.1//NONSGML v1.0//EN
CALSCALE:GREGORIAN
METHOD:PUBLISH
X-WR-CALNAME:United Nations Alliance of Civilizations (UNAOC)
X-ORIGINAL-URL:https://www.unaoc.org
X-WR-CALDESC:Events for United Nations Alliance of Civilizations (UNAOC)
BEGIN:VTIMEZONE
TZID:America/Halifax
BEGIN:DAYLIGHT
TZOFFSETFROM:-0400
TZOFFSETTO:-0300
TZNAME:ADT
DTSTART:20190310T060000
END:DAYLIGHT
BEGIN:STANDARD
TZOFFSETFROM:-0300
TZOFFSETTO:-0400
TZNAME:AST
DTSTART:20191103T050000
END:STANDARD
END:VTIMEZONE
BEGIN:VEVENT
DTSTART;TZID=America/Halifax:20190131T120000
DTEND;TZID=America/Halifax:20190131T130000
DTSTAMP:20221113T141552
CREATED:20190130T142634Z
LAST-MODIFIED:20190130T142634Z
UID:24810-1548936000-1548939600@www.unaoc.org
SUMMARY:Noon Briefing with H.E. Mr. Miguel Moratinos
DESCRIPTION:The new High Representative for the United Nations Alliance of Civilizations (UNAOC)\, H.E. Mr. Miguel Ángel Moratinos\, will be a guest at the noon briefing on Thursday 31 January. This will be his first media engagement since his appointment  by United Nations Secretary-General António Guterres and assuming his post on 7 January 2019. Read more here. \n \nShare thisClick to share on Twitter (Opens in new window)Click to share on Facebook (Opens in new window)Click to share on LinkedIn (Opens in new window)Click to share on Pinterest (Opens in new window)Click to share on Skype (Opens in new window)Click to share on WhatsApp (Opens in new window)Click to email a link to a friend (Opens in new window)MoreClick to share on Reddit (Opens in new window)Click to share on Tumblr (Opens in new window)Click to print (Opens in new window)Click to share on Pocket (Opens in new window)Click to share on Telegram (Opens in new window)
URL:https://www.unaoc.org/event/noon-briefing-with-h-e-mr-miguel-moratinos/
LOCATION:United Nations Headquarters\, New York\, United Nations Headquarters\, New York\, NY\, 10017\, United States
CATEGORIES:Press Briefing
END:VEVENT
END:VCALENDAR