BEGIN:VCALENDAR
VERSION:2.0
PRODID:-//United Nations Alliance of Civilizations (UNAOC) - ECPv5.14.2.1//NONSGML v1.0//EN
CALSCALE:GREGORIAN
METHOD:PUBLISH
X-WR-CALNAME:United Nations Alliance of Civilizations (UNAOC)
X-ORIGINAL-URL:https://www.unaoc.org
X-WR-CALDESC:Events for United Nations Alliance of Civilizations (UNAOC)
BEGIN:VTIMEZONE
TZID:America/Halifax
BEGIN:DAYLIGHT
TZOFFSETFROM:-0400
TZOFFSETTO:-0300
TZNAME:ADT
DTSTART:20190310T060000
END:DAYLIGHT
BEGIN:STANDARD
TZOFFSETFROM:-0300
TZOFFSETTO:-0400
TZNAME:AST
DTSTART:20191103T050000
END:STANDARD
END:VTIMEZONE
BEGIN:VEVENT
DTSTART;VALUE=DATE:20190716
DTEND;VALUE=DATE:20190719
DTSTAMP:20221113T153714
CREATED:20190715T135221Z
LAST-MODIFIED:20190715T135221Z
UID:26062-1563235200-1563494399@www.unaoc.org
SUMMARY:Ministerial to Advance Religious Freedom
DESCRIPTION:The United Nations Alliance of Civilizations (UNAOC) is participating in the second Ministerial to Advance Religious Freedom in Washington on July 16-18\, hosted by the U.S. Department of State. \nThe Ministerial will reaffirm international commitments to promote religious freedom for all and focus on concrete outcomes that produce durable\, positive change. A broad range of stakeholders\, including senior government representatives\, international organization representatives\, religious leaders\, and civil society activists will convene to discuss challenges\, identify concrete ways to combat religious persecution and discrimination\, and ensure greater respect for freedom of religion or belief.  \nThis year’s Ministerial seeks to further conversations from last year’s event and recent regional conferences. Up to 1000 civil society and religious community representatives\, representing every corner of the world\, are expected to attend. \nFor more information\, click here. \nShare thisClick to share on Twitter (Opens in new window)Click to share on Facebook (Opens in new window)Click to share on LinkedIn (Opens in new window)Click to share on Pinterest (Opens in new window)Click to share on Skype (Opens in new window)Click to share on WhatsApp (Opens in new window)Click to email a link to a friend (Opens in new window)MoreClick to share on Reddit (Opens in new window)Click to share on Tumblr (Opens in new window)Click to print (Opens in new window)Click to share on Pocket (Opens in new window)Click to share on Telegram (Opens in new window)
URL:https://www.unaoc.org/event/ministerial-to-advance-religious-freedom/
LOCATION:Washington\, DC\, USA\, United States
CATEGORIES:International Conference
END:VEVENT
END:VCALENDAR