BEGIN:VCALENDAR
VERSION:2.0
PRODID:-//United Nations Alliance of Civilizations (UNAOC) - ECPv5.14.2.1//NONSGML v1.0//EN
CALSCALE:GREGORIAN
METHOD:PUBLISH
X-WR-CALNAME:United Nations Alliance of Civilizations (UNAOC)
X-ORIGINAL-URL:https://www.unaoc.org
X-WR-CALDESC:Events for United Nations Alliance of Civilizations (UNAOC)
BEGIN:VTIMEZONE
TZID:America/Halifax
BEGIN:DAYLIGHT
TZOFFSETFROM:-0400
TZOFFSETTO:-0300
TZNAME:ADT
DTSTART:20150308T060000
END:DAYLIGHT
BEGIN:STANDARD
TZOFFSETFROM:-0300
TZOFFSETTO:-0400
TZNAME:AST
DTSTART:20151101T050000
END:STANDARD
END:VTIMEZONE
BEGIN:VEVENT
DTSTART;TZID=America/Halifax:20150322T185500
DTEND;TZID=America/Halifax:20150322T185500
DTSTAMP:20221113T162731
CREATED:20150317T202125Z
LAST-MODIFIED:20150317T203208Z
UID:13460-1427050500-1427050500@www.unaoc.org
SUMMARY:Vacancy Notice: Member States and Research Support Intern/Volunteer
DESCRIPTION:The UNAOC is seeking an intern who will work under the direct\, overall supervision of the UNAOC Member States and Donor Liaison Officer. To apply\, please visit: \nhttps://gprs.unops.org/pages/viewvacancy/VADetails.aspx?id=6576 \nShare thisClick to share on Twitter (Opens in new window)Click to share on Facebook (Opens in new window)Click to share on LinkedIn (Opens in new window)Click to share on Pinterest (Opens in new window)Click to share on Skype (Opens in new window)Click to share on WhatsApp (Opens in new window)Click to email a link to a friend (Opens in new window)MoreClick to share on Reddit (Opens in new window)Click to share on Tumblr (Opens in new window)Click to print (Opens in new window)Click to share on Pocket (Opens in new window)Click to share on Telegram (Opens in new window)
URL:https://www.unaoc.org/event/member-states-and-research-support-internvolunteer/
LOCATION:UNHQ\, NY
CATEGORIES:Calls For Applications
END:VEVENT
END:VCALENDAR