BEGIN:VCALENDAR
VERSION:2.0
PRODID:-//United Nations Alliance of Civilizations (UNAOC) - ECPv5.14.2.1//NONSGML v1.0//EN
CALSCALE:GREGORIAN
METHOD:PUBLISH
X-WR-CALNAME:United Nations Alliance of Civilizations (UNAOC)
X-ORIGINAL-URL:https://www.unaoc.org
X-WR-CALDESC:Events for United Nations Alliance of Civilizations (UNAOC)
BEGIN:VTIMEZONE
TZID:America/Halifax
BEGIN:DAYLIGHT
TZOFFSETFROM:-0400
TZOFFSETTO:-0300
TZNAME:ADT
DTSTART:20190310T060000
END:DAYLIGHT
BEGIN:STANDARD
TZOFFSETFROM:-0300
TZOFFSETTO:-0400
TZNAME:AST
DTSTART:20191103T050000
END:STANDARD
END:VTIMEZONE
BEGIN:VEVENT
DTSTART;VALUE=DATE:20190507
DTEND;VALUE=DATE:20190508
DTSTAMP:20221113T105936
CREATED:20190429T144316Z
LAST-MODIFIED:20190429T144744Z
UID:25180-1557187200-1557273599@www.unaoc.org
SUMMARY:Meeting of the Network of Communication Officers on Migration (NETCOM)
DESCRIPTION:The United Nations Alliance of Civilizations (UNAOC) will participate the second meeting of the Network of Communication Officers on Migration (NETCOM) on 7 May 2019 at the Organization for Economic Co-operation and Development (OECD) in Boulogne-Billancourt\, France\, in partnership with the International Organization for Migration (IOM). \nThis meeting will gather communication officers and political advisers working in the relevant ministries and agencies of OECD member countries to discuss communication objectives and challenges in the area of migration and integration\, and share good practices. UNAOC will participate in a session on the role of social media in communicating about migration\, and will address the issue of hate speech and fake news. \nShare thisClick to share on Twitter (Opens in new window)Click to share on Facebook (Opens in new window)Click to share on LinkedIn (Opens in new window)Click to share on Pinterest (Opens in new window)Click to share on Skype (Opens in new window)Click to share on WhatsApp (Opens in new window)Click to email a link to a friend (Opens in new window)MoreClick to share on Reddit (Opens in new window)Click to share on Tumblr (Opens in new window)Click to print (Opens in new window)Click to share on Pocket (Opens in new window)Click to share on Telegram (Opens in new window)
URL:https://www.unaoc.org/event/meeting-of-the-network-of-communication-officers-on-migration-netcom/
LOCATION:OECD Boulogne-Billancourt\, France\, 46 Quai Alphonse le Gallo\, Boulogne-Billancourt\, France
END:VEVENT
END:VCALENDAR