BEGIN:VCALENDAR
VERSION:2.0
PRODID:-//United Nations Alliance of Civilizations (UNAOC) - ECPv5.14.2.1//NONSGML v1.0//EN
CALSCALE:GREGORIAN
METHOD:PUBLISH
X-WR-CALNAME:United Nations Alliance of Civilizations (UNAOC)
X-ORIGINAL-URL:https://www.unaoc.org
X-WR-CALDESC:Events for United Nations Alliance of Civilizations (UNAOC)
BEGIN:VTIMEZONE
TZID:America/Halifax
BEGIN:DAYLIGHT
TZOFFSETFROM:-0400
TZOFFSETTO:-0300
TZNAME:ADT
DTSTART:20130310T060000
END:DAYLIGHT
BEGIN:STANDARD
TZOFFSETFROM:-0300
TZOFFSETTO:-0400
TZNAME:AST
DTSTART:20131103T050000
END:STANDARD
END:VTIMEZONE
BEGIN:VEVENT
DTSTART;TZID=America/Halifax:20130926T183000
DTEND;TZID=America/Halifax:20130926T203000
DTSTAMP:20221113T163105
CREATED:20130924T145113Z
LAST-MODIFIED:20130924T145244Z
UID:9169-1380220200-1380227400@www.unaoc.org
SUMMARY:"Land of Tolerance" Photography Exhibition by Mr. Reza Deghati
DESCRIPTION:Photography exhibition with the theme of “Land of Tolerance” to celebrate the Group Of Friends of the Alliance of Civilizations — Ministerial meeting — and to honor Mr. Reza Deghati\, an international award winning photographer. \nThe venue: Between Conference Rooms 1 & 2 at the UNHQ Secretariat Building.     \nThis event is organized with the support of the Permanent Mission of the Republic of Azerbaijan. \nShare thisClick to share on Twitter (Opens in new window)Click to share on Facebook (Opens in new window)Click to share on LinkedIn (Opens in new window)Click to share on Pinterest (Opens in new window)Click to share on Skype (Opens in new window)Click to share on WhatsApp (Opens in new window)Click to email a link to a friend (Opens in new window)MoreClick to share on Reddit (Opens in new window)Click to share on Tumblr (Opens in new window)Click to print (Opens in new window)Click to share on Pocket (Opens in new window)Click to share on Telegram (Opens in new window)
URL:https://www.unaoc.org/event/land-of-tolerance-photography-exhibition-by-mr-reza-deghati/
LOCATION:Secretariat Building\, UNHQ\, New York\, United States
END:VEVENT
END:VCALENDAR