BEGIN:VCALENDAR
VERSION:2.0
PRODID:-//United Nations Alliance of Civilizations (UNAOC) - ECPv5.14.2.1//NONSGML v1.0//EN
CALSCALE:GREGORIAN
METHOD:PUBLISH
X-WR-CALNAME:United Nations Alliance of Civilizations (UNAOC)
X-ORIGINAL-URL:https://www.unaoc.org
X-WR-CALDESC:Events for United Nations Alliance of Civilizations (UNAOC)
BEGIN:VTIMEZONE
TZID:America/Halifax
BEGIN:DAYLIGHT
TZOFFSETFROM:-0400
TZOFFSETTO:-0300
TZNAME:ADT
DTSTART:20200308T060000
END:DAYLIGHT
BEGIN:STANDARD
TZOFFSETFROM:-0300
TZOFFSETTO:-0400
TZNAME:AST
DTSTART:20201101T050000
END:STANDARD
END:VTIMEZONE
BEGIN:VEVENT
DTSTART;VALUE=DATE:20200304
DTEND;VALUE=DATE:20200306
DTSTAMP:20221113T125758
CREATED:20200217T161113Z
LAST-MODIFIED:20200305T144902Z
UID:27380-1583280000-1583452799@www.unaoc.org
SUMMARY:LA Dialogue on Creating Cities of Belonging
DESCRIPTION:As dynamic laboratories of ideas and practical solutions to problems affecting co-existence\, cities can and must lead the way in promoting inclusion\, co-existence\, and belonging. The LA Dialogue explores those ideas. \n\nCo-organized by the United Nations Alliance of Civilizations and the City of Los Angeles\, and LAMEDINA International Dialogue Institute \n\nThe LA Dialogue on Creating Cities of Belonging aims to foster reciprocal knowledge\, understanding\, and exchange in a safe and stimulating intellectual environment. \nThe neutral venue of the LA Dialogue\, as well as the private\, off-the-record nature of the discussions\, are designed to help participants develop a deeper comprehension of each other’s challenges and look for collective creative solutions to these challenges. \nUnder the chairmanship of LA Mayor Eric Garcetti and UNAOC High Representative Miguel Moratinos\, Mayors from around the world will interact with select cultural\, religious\, political\, and business personalities to discuss issues of pluralism and diversity. \nThis unique dialogue structure can thus connect local actors – municipal leaders as well as global players – the United Nations\, and civil society. It will take place in Los Angeles at the heart of a global search for a peaceful\, inclusive\, and multicultural coexistence. \nThe LA Dialogue will take place over 1.5 days in Los Angeles.  \nDownload the LA Dialogue Flyer  \n\nFlyerSpeakersConcept Note\n\nDownload (PDF\, 214KB) \n\n\n\nShare thisClick to share on Twitter (Opens in new window)Click to share on Facebook (Opens in new window)Click to share on LinkedIn (Opens in new window)Click to share on Pinterest (Opens in new window)Click to share on Skype (Opens in new window)Click to share on WhatsApp (Opens in new window)Click to email a link to a friend (Opens in new window)MoreClick to share on Reddit (Opens in new window)Click to share on Tumblr (Opens in new window)Click to print (Opens in new window)Click to share on Pocket (Opens in new window)Click to share on Telegram (Opens in new window)
URL:https://www.unaoc.org/event/la-dialogue-on-creating-cities-of-belonging/
LOCATION:Los Angeles\, Los Angeles\, United States
CATEGORIES:UNAOC Events
ATTACH;FMTTYPE=image/png:https://www.unaoc.org/wp-content/uploads/LA_dialogue_digicard_web.png
END:VEVENT
END:VCALENDAR