BEGIN:VCALENDAR
VERSION:2.0
PRODID:-//United Nations Alliance of Civilizations (UNAOC) - ECPv5.14.2.1//NONSGML v1.0//EN
CALSCALE:GREGORIAN
METHOD:PUBLISH
X-WR-CALNAME:United Nations Alliance of Civilizations (UNAOC)
X-ORIGINAL-URL:https://www.unaoc.org
X-WR-CALDESC:Events for United Nations Alliance of Civilizations (UNAOC)
BEGIN:VTIMEZONE
TZID:America/Halifax
BEGIN:DAYLIGHT
TZOFFSETFROM:-0400
TZOFFSETTO:-0300
TZNAME:ADT
DTSTART:20160313T060000
END:DAYLIGHT
BEGIN:STANDARD
TZOFFSETFROM:-0300
TZOFFSETTO:-0400
TZNAME:AST
DTSTART:20161106T050000
END:STANDARD
END:VTIMEZONE
BEGIN:VEVENT
DTSTART;TZID=America/Halifax:20160203T150000
DTEND;TZID=America/Halifax:20160203T180000
DTSTAMP:20221113T154228
CREATED:20160119T213759Z
LAST-MODIFIED:20170321T155838Z
UID:17024-1454511600-1454522400@www.unaoc.org
SUMMARY:Interfaith Harmony: Implementing the Transformative Agenda of the Sustainable Development Goals
DESCRIPTION:Interfaith Harmony: Implementing the Transformative Agenda of the Sustainable Development Goals \nHonoring the 2016 World Interfaith Harmony Week \nWednesday\, 3 February 2016\, 3:00-6:00 p.m.\, United Nations Conference Room 1 \nRegister by Friday January 29 at – www.rsvpwihw.eventbrite.com\nClick here to download the program. \nDownload (PDF\, 730KB) \n\nDownload (PDF\, 4.28MB) \n\nShare thisClick to share on Twitter (Opens in new window)Click to share on Facebook (Opens in new window)Click to share on LinkedIn (Opens in new window)Click to share on Pinterest (Opens in new window)Click to share on Skype (Opens in new window)Click to share on WhatsApp (Opens in new window)Click to email a link to a friend (Opens in new window)MoreClick to share on Reddit (Opens in new window)Click to share on Tumblr (Opens in new window)Click to print (Opens in new window)Click to share on Pocket (Opens in new window)Click to share on Telegram (Opens in new window)
URL:https://www.unaoc.org/event/interfaith-harmony-implementing-the-transformative-agenda-of-the-sdgs/
LOCATION:Conference Room 1\, NLB\, UNHQ
CATEGORIES:UNAOC Events
END:VEVENT
END:VCALENDAR