BEGIN:VCALENDAR
VERSION:2.0
PRODID:-//United Nations Alliance of Civilizations (UNAOC) - ECPv5.14.2.1//NONSGML v1.0//EN
CALSCALE:GREGORIAN
METHOD:PUBLISH
X-WR-CALNAME:United Nations Alliance of Civilizations (UNAOC)
X-ORIGINAL-URL:https://www.unaoc.org
X-WR-CALDESC:Events for United Nations Alliance of Civilizations (UNAOC)
BEGIN:VTIMEZONE
TZID:America/Halifax
BEGIN:DAYLIGHT
TZOFFSETFROM:-0400
TZOFFSETTO:-0300
TZNAME:ADT
DTSTART:20190310T060000
END:DAYLIGHT
BEGIN:STANDARD
TZOFFSETFROM:-0300
TZOFFSETTO:-0400
TZNAME:AST
DTSTART:20191103T050000
END:STANDARD
END:VTIMEZONE
BEGIN:VEVENT
DTSTART;TZID=America/Halifax:20190913T130000
DTEND;TZID=America/Halifax:20190913T150000
DTSTAMP:20221113T141253
CREATED:20190905T150247Z
LAST-MODIFIED:20190905T150506Z
UID:26226-1568379600-1568386800@www.unaoc.org
SUMMARY:High-Level Working Luncheon on the Culture of Peace
DESCRIPTION:On Friday 13 September 2019\, UNAOC will be participating in a high-level working luncheon convened by the President of the General Assembly\, H. E. María Fernanda Espinosa Garcés\, in the margins of the high-level forum devoted to the 20th Anniversary of the adoption of the Declaration and Programme of Action on the Culture of Peace by the General Assembly in resolution A/RES/53/243. \nThe luncheon will bring together member states and stakeholders to engage in an interactive discussion on the role of partnerships for achieving the SDGs\, including through building the culture of peace. \nFor more information about the High-Level Forum on the Culture of Peace – 20th Anniversary\, please click here. \n \nShare thisClick to share on Twitter (Opens in new window)Click to share on Facebook (Opens in new window)Click to share on LinkedIn (Opens in new window)Click to share on Pinterest (Opens in new window)Click to share on Skype (Opens in new window)Click to share on WhatsApp (Opens in new window)Click to email a link to a friend (Opens in new window)MoreClick to share on Reddit (Opens in new window)Click to share on Tumblr (Opens in new window)Click to print (Opens in new window)Click to share on Pocket (Opens in new window)Click to share on Telegram (Opens in new window)
URL:https://www.unaoc.org/event/high-level-working-luncheon-on-the-culture-of-peace/
LOCATION:UN Headquarters – Delegates Dining Room\, United Nations Headquarters\, New York\, NY\, 10017\, United States
END:VEVENT
END:VCALENDAR