BEGIN:VCALENDAR
VERSION:2.0
PRODID:-//United Nations Alliance of Civilizations (UNAOC) - ECPv6.15.20//NONSGML v1.0//EN
CALSCALE:GREGORIAN
METHOD:PUBLISH
X-WR-CALNAME:United Nations Alliance of Civilizations (UNAOC)
X-ORIGINAL-URL:https://www.unaoc.org
X-WR-CALDESC:Events for United Nations Alliance of Civilizations (UNAOC)
REFRESH-INTERVAL;VALUE=DURATION:PT1H
X-Robots-Tag:noindex
X-PUBLISHED-TTL:PT1H
BEGIN:VTIMEZONE
TZID:America/Halifax
BEGIN:DAYLIGHT
TZOFFSETFROM:-0400
TZOFFSETTO:-0300
TZNAME:ADT
DTSTART:20140309T060000
END:DAYLIGHT
BEGIN:STANDARD
TZOFFSETFROM:-0300
TZOFFSETTO:-0400
TZNAME:AST
DTSTART:20141102T050000
END:STANDARD
BEGIN:DAYLIGHT
TZOFFSETFROM:-0400
TZOFFSETTO:-0300
TZNAME:ADT
DTSTART:20150308T060000
END:DAYLIGHT
BEGIN:STANDARD
TZOFFSETFROM:-0300
TZOFFSETTO:-0400
TZNAME:AST
DTSTART:20151101T050000
END:STANDARD
BEGIN:DAYLIGHT
TZOFFSETFROM:-0400
TZOFFSETTO:-0300
TZNAME:ADT
DTSTART:20160313T060000
END:DAYLIGHT
BEGIN:STANDARD
TZOFFSETFROM:-0300
TZOFFSETTO:-0400
TZNAME:AST
DTSTART:20161106T050000
END:STANDARD
END:VTIMEZONE
BEGIN:VEVENT
DTSTART;VALUE=DATE:20150421
DTEND;VALUE=DATE:20150423
DTSTAMP:20260421T145525
CREATED:20150325T200656Z
LAST-MODIFIED:20200312T203431Z
UID:13474-1429574400-1429747199@www.unaoc.org
SUMMARY:High-Level Thematic Debate on Promoting Tolerance and Reconciliation: Fostering Peaceful\, Inclusive Societies and Countering Violent Extremism
DESCRIPTION:For more information\, please visit: \nhttp://www.un.org/pga/hltd-promoting-tolerance-and-reconciliation/
URL:https://www.unaoc.org/event/high-level-thematic-debate-on-promoting-tolerance-reconciliation-fostering-peaceful-inclusive-societies-countering-violent-extremism/
LOCATION:UNHQ\, NY
END:VEVENT
END:VCALENDAR