BEGIN:VCALENDAR
VERSION:2.0
PRODID:-//United Nations Alliance of Civilizations (UNAOC) - ECPv5.14.2.1//NONSGML v1.0//EN
CALSCALE:GREGORIAN
METHOD:PUBLISH
X-WR-CALNAME:United Nations Alliance of Civilizations (UNAOC)
X-ORIGINAL-URL:https://www.unaoc.org
X-WR-CALDESC:Events for United Nations Alliance of Civilizations (UNAOC)
BEGIN:VTIMEZONE
TZID:America/Halifax
BEGIN:DAYLIGHT
TZOFFSETFROM:-0400
TZOFFSETTO:-0300
TZNAME:ADT
DTSTART:20190310T060000
END:DAYLIGHT
BEGIN:STANDARD
TZOFFSETFROM:-0300
TZOFFSETTO:-0400
TZNAME:AST
DTSTART:20191103T050000
END:STANDARD
END:VTIMEZONE
BEGIN:VEVENT
DTSTART;TZID=America/Halifax:20190925T080000
DTEND;TZID=America/Halifax:20190925T093000
DTSTAMP:20221113T125619
CREATED:20190924T184730Z
LAST-MODIFIED:20190924T184928Z
UID:26387-1569398400-1569403800@www.unaoc.org
SUMMARY:High-Level Round Table on Countering Hate Speech
DESCRIPTION:Mr. Miguel Ángel Moratinos\, High Representative for the United Nations Alliance of Civilizations\, will deliver the keynote address at the High-Level Round Table on Countering Hate Speech\, a side event in the margins of the 74th Session of the United Nations General Assembly\, organized by the Permanent Mission of Turkey to the UN and the Permanent Mission of Pakistan to the UN. \nThe High-Level Roundtable will provide the participants with an opportunity to identify key factors leading to an increase in intolerance and various forms of hatred\, including hate speech. It is aimed at identifying measures and approaches required to effectively address and mitigate the impacts of hate speech on societies across the world\, with a view to fostering tolerance and inclusivity. \n\nDownload (PDF\, 118KB) \n\n\nShare thisClick to share on Twitter (Opens in new window)Click to share on Facebook (Opens in new window)Click to share on LinkedIn (Opens in new window)Click to share on Pinterest (Opens in new window)Click to share on Skype (Opens in new window)Click to share on WhatsApp (Opens in new window)Click to email a link to a friend (Opens in new window)MoreClick to share on Reddit (Opens in new window)Click to share on Tumblr (Opens in new window)Click to print (Opens in new window)Click to share on Pocket (Opens in new window)Click to share on Telegram (Opens in new window)
URL:https://www.unaoc.org/event/high-level-round-table-on-countering-hate-speech/
LOCATION:UNHQ Conference Room 12\, United Nations Headquarters\, New York\, NY\, 10017\, United States
END:VEVENT
END:VCALENDAR