BEGIN:VCALENDAR
VERSION:2.0
PRODID:-//United Nations Alliance of Civilizations (UNAOC) - ECPv5.14.2.1//NONSGML v1.0//EN
CALSCALE:GREGORIAN
METHOD:PUBLISH
X-WR-CALNAME:United Nations Alliance of Civilizations (UNAOC)
X-ORIGINAL-URL:https://www.unaoc.org
X-WR-CALDESC:Events for United Nations Alliance of Civilizations (UNAOC)
BEGIN:VTIMEZONE
TZID:America/Halifax
BEGIN:DAYLIGHT
TZOFFSETFROM:-0400
TZOFFSETTO:-0300
TZNAME:ADT
DTSTART:20150308T060000
END:DAYLIGHT
BEGIN:STANDARD
TZOFFSETFROM:-0300
TZOFFSETTO:-0400
TZNAME:AST
DTSTART:20151101T050000
END:STANDARD
END:VTIMEZONE
BEGIN:VEVENT
DTSTART;TZID=America/Halifax:20151001T150000
DTEND;TZID=America/Halifax:20151001T180000
DTSTAMP:20221113T162622
CREATED:20150828T174946Z
LAST-MODIFIED:20170316T152631Z
UID:16049-1443711600-1443722400@www.unaoc.org
SUMMARY:UNAOC Group of Friends Annual Ministerial Meeting
DESCRIPTION:The UNAOC Group of Friends (GoF) Ministerial Meeting will be on October 1\, 2015\, 3:00 to 6:00 pm. \n View/Download: UNAOC Group of Friends Annual Ministerial Meeting Program and Agenda . \nShare thisClick to share on Twitter (Opens in new window)Click to share on Facebook (Opens in new window)Click to share on LinkedIn (Opens in new window)Click to share on Pinterest (Opens in new window)Click to share on Skype (Opens in new window)Click to share on WhatsApp (Opens in new window)Click to email a link to a friend (Opens in new window)MoreClick to share on Reddit (Opens in new window)Click to share on Tumblr (Opens in new window)Click to print (Opens in new window)Click to share on Pocket (Opens in new window)Click to share on Telegram (Opens in new window)
URL:https://www.unaoc.org/event/group-of-friends-ministerial-meeting-october-2015/
LOCATION:UNHQ\, CB\, Conference Room 2\, 760 United Nations Plaza\, New York\, 10017
CATEGORIES:Group of Friends Meeting
END:VEVENT
END:VCALENDAR