BEGIN:VCALENDAR
VERSION:2.0
PRODID:-//United Nations Alliance of Civilizations (UNAOC) - ECPv5.14.2.1//NONSGML v1.0//EN
CALSCALE:GREGORIAN
METHOD:PUBLISH
X-WR-CALNAME:United Nations Alliance of Civilizations (UNAOC)
X-ORIGINAL-URL:https://www.unaoc.org
X-WR-CALDESC:Events for United Nations Alliance of Civilizations (UNAOC)
BEGIN:VTIMEZONE
TZID:America/Halifax
BEGIN:DAYLIGHT
TZOFFSETFROM:-0400
TZOFFSETTO:-0300
TZNAME:ADT
DTSTART:20170312T060000
END:DAYLIGHT
BEGIN:STANDARD
TZOFFSETFROM:-0300
TZOFFSETTO:-0400
TZNAME:AST
DTSTART:20171105T050000
END:STANDARD
END:VTIMEZONE
BEGIN:VEVENT
DTSTART;TZID=America/Halifax:20170419T150000
DTEND;TZID=America/Halifax:20170419T173000
DTSTAMP:20221113T150029
CREATED:20170320T140025Z
LAST-MODIFIED:20170324T192356Z
UID:20395-1492614000-1492623000@www.unaoc.org
SUMMARY:UNAOC Group of Friends Meeting
DESCRIPTION:The United Nations Alliance of Civilizations (UNAOC) will be holding its next Group of Friends Meeting (Ambassadorial level) on 19 April 2017\, from 3:00 to 5:30 pm\, at the United Nations Headquarters in New York\, Conference Room 2. \n Download the Agenda   Download the Programme  \nDownload (PDF\, 516KB) \n\nDownload (PDF\, 517KB) \n\nShare thisClick to share on Twitter (Opens in new window)Click to share on Facebook (Opens in new window)Click to share on LinkedIn (Opens in new window)Click to share on Pinterest (Opens in new window)Click to share on Skype (Opens in new window)Click to share on WhatsApp (Opens in new window)Click to email a link to a friend (Opens in new window)MoreClick to share on Reddit (Opens in new window)Click to share on Tumblr (Opens in new window)Click to print (Opens in new window)Click to share on Pocket (Opens in new window)Click to share on Telegram (Opens in new window)
URL:https://www.unaoc.org/event/group-of-friends-meeting-2017/
LOCATION:UN Headquarters\, Conference Room 2\, United Nations Headquarters\, New York\, NY\, United States
CATEGORIES:Group of Friends Meeting,UNAOC Events
END:VEVENT
END:VCALENDAR