BEGIN:VCALENDAR
VERSION:2.0
PRODID:-//United Nations Alliance of Civilizations (UNAOC) - ECPv5.14.2.1//NONSGML v1.0//EN
CALSCALE:GREGORIAN
METHOD:PUBLISH
X-WR-CALNAME:United Nations Alliance of Civilizations (UNAOC)
X-ORIGINAL-URL:https://www.unaoc.org
X-WR-CALDESC:Events for United Nations Alliance of Civilizations (UNAOC)
BEGIN:VTIMEZONE
TZID:America/Halifax
BEGIN:DAYLIGHT
TZOFFSETFROM:-0400
TZOFFSETTO:-0300
TZNAME:ADT
DTSTART:20160313T060000
END:DAYLIGHT
BEGIN:STANDARD
TZOFFSETFROM:-0300
TZOFFSETTO:-0400
TZNAME:AST
DTSTART:20161106T050000
END:STANDARD
END:VTIMEZONE
BEGIN:VEVENT
DTSTART;TZID=America/Halifax:20161215T100000
DTEND;TZID=America/Halifax:20161215T120000
DTSTAMP:20221113T145326
CREATED:20161201T184728Z
LAST-MODIFIED:20161201T185012Z
UID:19302-1481796000-1481803200@www.unaoc.org
SUMMARY:Global Migration Film Festival and International Migrants Day
DESCRIPTION:You are cordially invited to attend IOM’s Global Migration Film Festival and International Migrants Day event on 15th December at UN Headquarters. Entry is free\, but seating is on a first-come\, first-serve basis. You may RSVP here. The event will take place from 10am-12pm in Conference Room 6. We hope you can join us and our impressive panel of speakers. \n\nMari Malek – South Sudanese celebrity\, artist\, and humanitarian\nRafer Guzman – Film Critic\, Newsday\nAndrea Cristina Mercado – Campaign Director\, National Domestic Workers Alliance\nCharlotte Gosset\, Regional Outreach Manager\, NYC Immigration Coalition\nPerla Liberato\, Filmmaker and Plural+ 2016 International Jury Award winner\nJordi Torrent – Project Manager\, United Nations Alliance of Civilizations\n\n\n\n\n\n\nShare thisClick to share on Twitter (Opens in new window)Click to share on Facebook (Opens in new window)Click to share on LinkedIn (Opens in new window)Click to share on Pinterest (Opens in new window)Click to share on Skype (Opens in new window)Click to share on WhatsApp (Opens in new window)Click to email a link to a friend (Opens in new window)MoreClick to share on Reddit (Opens in new window)Click to share on Tumblr (Opens in new window)Click to print (Opens in new window)Click to share on Pocket (Opens in new window)Click to share on Telegram (Opens in new window)
URL:https://www.unaoc.org/event/global-migration-film-festival-and-international-migrants-day/
LOCATION:United Nations Headquarters\, Conference Room 6\, UN Headquarters\, Conference Room 6\, New York\, NY\, United States
CATEGORIES:Film Festival
END:VEVENT
END:VCALENDAR