BEGIN:VCALENDAR
VERSION:2.0
PRODID:-//United Nations Alliance of Civilizations (UNAOC) - ECPv5.14.2.1//NONSGML v1.0//EN
CALSCALE:GREGORIAN
METHOD:PUBLISH
X-WR-CALNAME:United Nations Alliance of Civilizations (UNAOC)
X-ORIGINAL-URL:https://www.unaoc.org
X-WR-CALDESC:Events for United Nations Alliance of Civilizations (UNAOC)
BEGIN:VTIMEZONE
TZID:Asia/Dubai
BEGIN:STANDARD
TZOFFSETFROM:+0400
TZOFFSETTO:+0400
TZNAME:+04
DTSTART:20190101T000000
END:STANDARD
END:VTIMEZONE
BEGIN:VEVENT
DTSTART;TZID=Asia/Dubai:20190502T143000
DTEND;TZID=Asia/Dubai:20190502T160000
DTSTAMP:20221113T105939
CREATED:20190430T171109Z
LAST-MODIFIED:20190702T203413Z
UID:25200-1556807400-1556812800@www.unaoc.org
SUMMARY:WFID Breakout Session: "Global Citizenship Education: Nurturing a Culture of Peace"
DESCRIPTION:“Global Citizenship Education: Nurturing a Culture of Peace”\nA Breakout Session at the 5th World Forum on Intercultural Dialogue \nOur world today is increasingly multi-cultural and multi-polar\, where the values of pluralism and diversity should be viewed as enriching rather than polarizing. Beyond classical conceptions of citizenship\, we should seek to establish a culture of peace from an early age\, where people of different identities\, faiths and cultures can identify as global citizens. In this context\, Global Citizenship Education (GCED) seems to be the best vehicle to instill these values. GCED involves the use of practical tools for building human solidarity and helping localities counter the violence and discrimination in diverse communities. One of those tools is intercultural and interfaith dialogue. GCED is an important instrument in our collective efforts to achieve peaceful coexistence. \nThe United Nations Alliance of Civilizations (UNAOC) works actively to enable youth leaders to acquire intercultural competencies\, develop critical-thinking skills and promote the values of diversity and respect of the other with the aim of fostering cross-cultural dialogue\, nurturing a culture of peace as well as overcoming stereotypes and intolerance. At the same time\, UNAOC strengthens (youth-led) civil society organizations\, while highlighting their GCED initiatives\, in order to support their integration at the policy level. To contribute to GCED\, UNAOC has already implemented and continues to spearhead the following projects: Young Peacebuilders\, Fellowship Programme\, PLURAL+ Youth Video Festival\, PEACEapp\, Youth Solidarity Fund and Intercultural Innovation Award\, as well as Media Information Literacy (MIL). For more information\, visit www.unaoc.org. \nDownload (PDF\, 1.24MB) \n\nShare thisClick to share on Twitter (Opens in new window)Click to share on Facebook (Opens in new window)Click to share on LinkedIn (Opens in new window)Click to share on Pinterest (Opens in new window)Click to share on Skype (Opens in new window)Click to share on WhatsApp (Opens in new window)Click to email a link to a friend (Opens in new window)MoreClick to share on Reddit (Opens in new window)Click to share on Tumblr (Opens in new window)Click to print (Opens in new window)Click to share on Pocket (Opens in new window)Click to share on Telegram (Opens in new window)
URL:https://www.unaoc.org/event/global-citizenship-education-nurturing-a-culture-of-peace/
LOCATION:Baku\, Azerbaijan\, Baku\, Azerbaijan
CATEGORIES:International Conference
END:VEVENT
END:VCALENDAR