BEGIN:VCALENDAR
VERSION:2.0
PRODID:-//United Nations Alliance of Civilizations (UNAOC) - ECPv5.14.2.1//NONSGML v1.0//EN
CALSCALE:GREGORIAN
METHOD:PUBLISH
X-WR-CALNAME:United Nations Alliance of Civilizations (UNAOC)
X-ORIGINAL-URL:https://www.unaoc.org
X-WR-CALDESC:Events for United Nations Alliance of Civilizations (UNAOC)
BEGIN:VTIMEZONE
TZID:Europe/Paris
BEGIN:DAYLIGHT
TZOFFSETFROM:+0100
TZOFFSETTO:+0200
TZNAME:CEST
DTSTART:20200329T010000
END:DAYLIGHT
BEGIN:STANDARD
TZOFFSETFROM:+0200
TZOFFSETTO:+0100
TZNAME:CET
DTSTART:20201025T010000
END:STANDARD
END:VTIMEZONE
BEGIN:VEVENT
DTSTART;TZID=Europe/Paris:20201119T143000
DTEND;TZID=Europe/Paris:20201119T153000
DTSTAMP:20221113T154759
CREATED:20201110T151156Z
LAST-MODIFIED:20201110T151156Z
UID:28832-1605796200-1605799800@www.unaoc.org
SUMMARY:Freedom of Speech and caricatures  vs.  Respect of Religions :  Clash or Alliance of Civilizations?
DESCRIPTION:A Zoom conversation with Mr. Miguel Moratinos\, High Representative for UNAOC\, organized by the Aspen Institute of France \nFollowing the recent events in Conflans Sainte Honorine with the beheading of teacher Samuel Paty and in Notre Dame Cathedral in Nice\, and the Vienna shooting a few days later\, France and Europe are hit again by fanatic attacks and murders committed in the name of Islam. The reaction by President Macron saying that France would not surrender its core value and freedom of expression\, and the preparation of a law on “Islamic separatism” has generated fury in the Muslim world and the boycott of French products.  \nShould there be some limit in the freedom of speech and expression? Are we heading towards a new wave of terror and escalation of tensions?\n25 years after the publication of the Clash of Civilizations and all attempts made to prevent it by promoting dialogue and alliance of Civilizations\, can we say that Huntington’s predictions have prevailed? What could be the responses and the measures to be taken to guarantee mutual respect among religions and faiths and peaceful societies?  \nThe Aspen Institute will host Miguel Moratinos\, the Head of the UN body against extremism and radicalization\, to discuss these sensitive issues and to seek his views in the global context.  \n\nThe Aspen Institute France is an educational and policy studies organization based in Paris. Its mission is to foster leadership based on enduring values and to provide a nonpartisan venue for dealing with critical issues. \nShare thisClick to share on Twitter (Opens in new window)Click to share on Facebook (Opens in new window)Click to share on LinkedIn (Opens in new window)Click to share on Pinterest (Opens in new window)Click to share on Skype (Opens in new window)Click to share on WhatsApp (Opens in new window)Click to email a link to a friend (Opens in new window)MoreClick to share on Reddit (Opens in new window)Click to share on Tumblr (Opens in new window)Click to print (Opens in new window)Click to share on Pocket (Opens in new window)Click to share on Telegram (Opens in new window)
URL:https://www.unaoc.org/event/freedom-of-speech-and-caricatures-vs-respect-of-religions-clash-or-alliance-of-civilizations/
CATEGORIES:International Conference
END:VEVENT
END:VCALENDAR