BEGIN:VCALENDAR
VERSION:2.0
PRODID:-//United Nations Alliance of Civilizations (UNAOC) - ECPv5.14.2.1//NONSGML v1.0//EN
CALSCALE:GREGORIAN
METHOD:PUBLISH
X-WR-CALNAME:United Nations Alliance of Civilizations (UNAOC)
X-ORIGINAL-URL:https://www.unaoc.org
X-WR-CALDESC:Events for United Nations Alliance of Civilizations (UNAOC)
BEGIN:VTIMEZONE
TZID:America/Halifax
BEGIN:DAYLIGHT
TZOFFSETFROM:-0400
TZOFFSETTO:-0300
TZNAME:ADT
DTSTART:20130310T060000
END:DAYLIGHT
BEGIN:STANDARD
TZOFFSETFROM:-0300
TZOFFSETTO:-0400
TZNAME:AST
DTSTART:20131103T050000
END:STANDARD
END:VTIMEZONE
BEGIN:VEVENT
DTSTART;VALUE=DATE:20130903
DTEND;VALUE=DATE:20130904
DTSTAMP:20221113T163112
CREATED:20130821T155938Z
LAST-MODIFIED:20130829T142510Z
UID:9035-1378166400-1378252799@www.unaoc.org
SUMMARY:Fall 2013 Fellowship Programme
DESCRIPTION:Application Info: click here \nWe are pleased to announce the Fall 2013 Fellowship programme in the MENA region for European and North American young professionals. Current events\, the recent Baku Alumni Forum and the last cohort of MENA Fellows this past June underscore the need for accelerated dialogue and action in fostering peace\, understanding\, trust and cooperation. We are proud of all of our Fellows’ work in these areas and look forward to welcoming a new batch of exceptional young leaders to this group. \nThe Fellowship programme has an open call for applications this fall for European and North American participants\, that will close on September 3\, 2013 for this session. Learn more by clicking here. \nAbout the Fellowship: \nThe United Nations Alliance of Civilizations is a competitive Fellowship program designed to foster mutual understanding\, trust\, cooperation and dialogue between emerging leaders from the Middle East and North Africa (MENA)\, Europe\, Canada and the United States. The program is sponsored by the Federal Foreign Office of Germany in partnership with the League of Arab States\, Guerrand-Hermes\, ISESCO\, the Ministry of Foreign Affairs of Jordan\, the Qatar foundation\, OIC and the Institute of International Education. \nMENA Fellows travel to 3 countries in Europe and 3 States in the United States. European\, Canadian and American Fellows travel to 3 countries in the MENA region. Fellows meet with host country officials\, government leaders\, representatives of the media\, NGOs\, academics and religious groups to gain a multidimensional perspective of the political\, economic and social background of each country.  \nThis year the Fellowship program will be in November 2013 (Dates TBC). Fellows will travel to three countries (TBD) in the MENA region.  \nAirfare and transportation\, lodging and food expenses are covered by the programme. \nShare thisClick to share on Twitter (Opens in new window)Click to share on Facebook (Opens in new window)Click to share on LinkedIn (Opens in new window)Click to share on Pinterest (Opens in new window)Click to share on Skype (Opens in new window)Click to share on WhatsApp (Opens in new window)Click to email a link to a friend (Opens in new window)MoreClick to share on Reddit (Opens in new window)Click to share on Tumblr (Opens in new window)Click to print (Opens in new window)Click to share on Pocket (Opens in new window)Click to share on Telegram (Opens in new window)
URL:https://www.unaoc.org/event/fall-2013-fellowship-programme/
CATEGORIES:Calls For Applications
END:VEVENT
END:VCALENDAR