BEGIN:VCALENDAR
VERSION:2.0
PRODID:-//United Nations Alliance of Civilizations (UNAOC) - ECPv5.14.2.1//NONSGML v1.0//EN
CALSCALE:GREGORIAN
METHOD:PUBLISH
X-WR-CALNAME:United Nations Alliance of Civilizations (UNAOC)
X-ORIGINAL-URL:https://www.unaoc.org
X-WR-CALDESC:Events for United Nations Alliance of Civilizations (UNAOC)
BEGIN:VTIMEZONE
TZID:America/Halifax
BEGIN:DAYLIGHT
TZOFFSETFROM:-0400
TZOFFSETTO:-0300
TZNAME:ADT
DTSTART:20210314T060000
END:DAYLIGHT
BEGIN:STANDARD
TZOFFSETFROM:-0300
TZOFFSETTO:-0400
TZNAME:AST
DTSTART:20211107T050000
END:STANDARD
END:VTIMEZONE
BEGIN:VEVENT
DTSTART;TZID=America/Halifax:20210315T083000
DTEND;TZID=America/Halifax:20210315T123000
DTSTAMP:20221113T162433
CREATED:20210301T172432Z
LAST-MODIFIED:20210315T080110Z
UID:29478-1615797000-1615811400@www.unaoc.org
SUMMARY:Exploring Holistic Approaches to Combating Antisemitism
DESCRIPTION:Informal Meeting on Exploring Holistic Approaches to Combating Antisemitism \n Watch Live Here \n \n\n  \nProgramme\n 07:30-08:30 Logging-in participants  \n 08:30-08:40 Opening \nMr. Miguel Moratinos\, High Representative for the United Nations Alliance of Civilizations (UNAOC)  \n 08:40-09:40 Session I:\nSetting the Scene: How far we’ve been in the fight against antisemitism? What are the challenges? \n 09:40-11:00 Session II:\nGood/Promising practices of state actors in combating antisemitism: Turning words into Action through adopting national strategies \n 11:00-12:00 Session III:\nCreating synergies and exploring means of enhancing a system-wide response to antisemitism \n 12:00 Closing Session: The takeaways\n\n\n\n\nConcept Note \nDownload (PDF\, 339KB) \n\n\nProgramme \nDownload (PDF\, 344KB) \n\nShare thisClick to share on Twitter (Opens in new window)Click to share on Facebook (Opens in new window)Click to share on LinkedIn (Opens in new window)Click to share on Pinterest (Opens in new window)Click to share on Skype (Opens in new window)Click to share on WhatsApp (Opens in new window)Click to email a link to a friend (Opens in new window)MoreClick to share on Reddit (Opens in new window)Click to share on Tumblr (Opens in new window)Click to print (Opens in new window)Click to share on Pocket (Opens in new window)Click to share on Telegram (Opens in new window)
URL:https://www.unaoc.org/event/exploring-holistic-approaches-to-combating-antisemitism/
LOCATION:Virtual
CATEGORIES:UNAOC Events
END:VEVENT
END:VCALENDAR