BEGIN:VCALENDAR
VERSION:2.0
PRODID:-//United Nations Alliance of Civilizations (UNAOC) - ECPv5.14.2.1//NONSGML v1.0//EN
CALSCALE:GREGORIAN
METHOD:PUBLISH
X-WR-CALNAME:United Nations Alliance of Civilizations (UNAOC)
X-ORIGINAL-URL:https://www.unaoc.org
X-WR-CALDESC:Events for United Nations Alliance of Civilizations (UNAOC)
BEGIN:VTIMEZONE
TZID:America/Halifax
BEGIN:DAYLIGHT
TZOFFSETFROM:-0400
TZOFFSETTO:-0300
TZNAME:ADT
DTSTART:20200308T060000
END:DAYLIGHT
BEGIN:STANDARD
TZOFFSETFROM:-0300
TZOFFSETTO:-0400
TZNAME:AST
DTSTART:20201101T050000
END:STANDARD
END:VTIMEZONE
BEGIN:VEVENT
DTSTART;TZID=America/Halifax:20201029T143000
DTEND;TZID=America/Halifax:20201029T150000
DTSTAMP:20221113T153924
CREATED:20201021T172723Z
LAST-MODIFIED:20201029T170657Z
UID:28669-1603981800-1603983600@www.unaoc.org
SUMMARY:Espai Debat - Ciclo Europa\, Spain
DESCRIPTION:L’H Espai de Debat is a platform integrated by diverse entities of a social character whose objective is to promote debate and citizen involvement in the city of l’Hospitalet del Llobregat.  \nEurope: Present and Future\nResponse to Covid19\, global leadership and the biggest global challenges.  \nClick here for more information. \n \n \nShare thisClick to share on Twitter (Opens in new window)Click to share on Facebook (Opens in new window)Click to share on LinkedIn (Opens in new window)Click to share on Pinterest (Opens in new window)Click to share on Skype (Opens in new window)Click to share on WhatsApp (Opens in new window)Click to email a link to a friend (Opens in new window)MoreClick to share on Reddit (Opens in new window)Click to share on Tumblr (Opens in new window)Click to print (Opens in new window)Click to share on Pocket (Opens in new window)Click to share on Telegram (Opens in new window)
URL:https://www.unaoc.org/event/espai-debat-ciclo-europa-spain/
CATEGORIES:International Conference,Virtual Conference
END:VEVENT
END:VCALENDAR