BEGIN:VCALENDAR
VERSION:2.0
PRODID:-//United Nations Alliance of Civilizations (UNAOC) - ECPv5.14.2.1//NONSGML v1.0//EN
CALSCALE:GREGORIAN
METHOD:PUBLISH
X-WR-CALNAME:United Nations Alliance of Civilizations (UNAOC)
X-ORIGINAL-URL:https://www.unaoc.org
X-WR-CALDESC:Events for United Nations Alliance of Civilizations (UNAOC)
BEGIN:VTIMEZONE
TZID:America/Halifax
BEGIN:DAYLIGHT
TZOFFSETFROM:-0400
TZOFFSETTO:-0300
TZNAME:ADT
DTSTART:20160313T060000
END:DAYLIGHT
BEGIN:STANDARD
TZOFFSETFROM:-0300
TZOFFSETTO:-0400
TZNAME:AST
DTSTART:20161106T050000
END:STANDARD
END:VTIMEZONE
BEGIN:VEVENT
DTSTART;TZID=America/Halifax:20160302T170000
DTEND;TZID=America/Halifax:20160302T210000
DTSTAMP:20221113T151943
CREATED:20160127T211815Z
LAST-MODIFIED:20170321T155529Z
UID:17171-1456938000-1456952400@www.unaoc.org
SUMMARY:Energizing Social Inclusion through Youth-produced Media
DESCRIPTION:Energizing social inclusion through youth-produced media will spotlight positive outcomes of including and encouraging youth production of media in formal and informal educational settings. \nDownload (PDF\, 201KB) \n\nShare thisClick to share on Twitter (Opens in new window)Click to share on Facebook (Opens in new window)Click to share on LinkedIn (Opens in new window)Click to share on Pinterest (Opens in new window)Click to share on Skype (Opens in new window)Click to share on WhatsApp (Opens in new window)Click to email a link to a friend (Opens in new window)MoreClick to share on Reddit (Opens in new window)Click to share on Tumblr (Opens in new window)Click to print (Opens in new window)Click to share on Pocket (Opens in new window)Click to share on Telegram (Opens in new window)
URL:https://www.unaoc.org/event/energizing-social-inclusion-through-youth-produced-media/
LOCATION:Fordham University\, (Lincoln Center campus)\, New York\, United States
CATEGORIES:UNAOC Events
END:VEVENT
END:VCALENDAR