BEGIN:VCALENDAR
VERSION:2.0
PRODID:-//United Nations Alliance of Civilizations (UNAOC) - ECPv5.14.2.1//NONSGML v1.0//EN
CALSCALE:GREGORIAN
METHOD:PUBLISH
X-WR-CALNAME:United Nations Alliance of Civilizations (UNAOC)
X-ORIGINAL-URL:https://www.unaoc.org
X-WR-CALDESC:Events for United Nations Alliance of Civilizations (UNAOC)
BEGIN:VTIMEZONE
TZID:America/Halifax
BEGIN:DAYLIGHT
TZOFFSETFROM:-0400
TZOFFSETTO:-0300
TZNAME:ADT
DTSTART:20210314T060000
END:DAYLIGHT
BEGIN:STANDARD
TZOFFSETFROM:-0300
TZOFFSETTO:-0400
TZNAME:AST
DTSTART:20211107T050000
END:STANDARD
END:VTIMEZONE
BEGIN:VEVENT
DTSTART;TZID=America/Halifax:20210709T090000
DTEND;TZID=America/Halifax:20210709T110000
DTSTAMP:20221113T115104
CREATED:20210706T200254Z
LAST-MODIFIED:20210706T200622Z
UID:30215-1625821200-1625828400@www.unaoc.org
SUMMARY:Digital Games for Peace: Induction Session
DESCRIPTION:Co-organized by the UNESCO Mahatma Gandhi Institute of Education for Peace and Sustainable Development\, the United Nations Office of Counter-Terrorism\, and the United Nations Alliance of Civilizations (UNAOC); the #DigitalGamesForPeace Challenge aims to harness the creative energies of youth South and Southeast Asia and the promise of game-based innovations in cultivating pertinent competencies for prevention of violent extremism. The Induction Session will embark 51 selected youth upon Phase 1 of the programme for improving their capacities on game-based methodologies for peace. \n \nShare thisClick to share on Twitter (Opens in new window)Click to share on Facebook (Opens in new window)Click to share on LinkedIn (Opens in new window)Click to share on Pinterest (Opens in new window)Click to share on Skype (Opens in new window)Click to share on WhatsApp (Opens in new window)Click to email a link to a friend (Opens in new window)MoreClick to share on Reddit (Opens in new window)Click to share on Tumblr (Opens in new window)Click to print (Opens in new window)Click to share on Pocket (Opens in new window)Click to share on Telegram (Opens in new window)
URL:https://www.unaoc.org/event/digital-games-for-peace-induction-session/
LOCATION:Virtual
END:VEVENT
END:VCALENDAR