BEGIN:VCALENDAR
VERSION:2.0
PRODID:-//United Nations Alliance of Civilizations (UNAOC) - ECPv5.14.2.1//NONSGML v1.0//EN
CALSCALE:GREGORIAN
METHOD:PUBLISH
X-WR-CALNAME:United Nations Alliance of Civilizations (UNAOC)
X-ORIGINAL-URL:https://www.unaoc.org
X-WR-CALDESC:Events for United Nations Alliance of Civilizations (UNAOC)
BEGIN:VTIMEZONE
TZID:America/Halifax
BEGIN:DAYLIGHT
TZOFFSETFROM:-0400
TZOFFSETTO:-0300
TZNAME:ADT
DTSTART:20170312T060000
END:DAYLIGHT
BEGIN:STANDARD
TZOFFSETFROM:-0300
TZOFFSETTO:-0400
TZNAME:AST
DTSTART:20171105T050000
END:STANDARD
END:VTIMEZONE
BEGIN:VEVENT
DTSTART;VALUE=DATE:20170831
DTEND;VALUE=DATE:20170901
DTSTAMP:20221113T142705
CREATED:20170726T172855Z
LAST-MODIFIED:20170726T172855Z
UID:21887-1504137600-1504223999@www.unaoc.org
SUMMARY:Deadline for Applications: Young Peacebuilders in MENA 2017
DESCRIPTION:The United Nations Alliance of Civilizations (UNAOC) is pleased to launch the Call for Applications for the Young Peacebuilders in Middle East and North Africa programme. The Call is open to participants between 18 to 25 years old\, from the region\, with a strong interest in growing their ability to act as agents of peace in their community\, region and beyond.  \nRead more about Young Peacebuilders in MENA \nShare thisClick to share on Twitter (Opens in new window)Click to share on Facebook (Opens in new window)Click to share on LinkedIn (Opens in new window)Click to share on Pinterest (Opens in new window)Click to share on Skype (Opens in new window)Click to share on WhatsApp (Opens in new window)Click to email a link to a friend (Opens in new window)MoreClick to share on Reddit (Opens in new window)Click to share on Tumblr (Opens in new window)Click to print (Opens in new window)Click to share on Pocket (Opens in new window)Click to share on Telegram (Opens in new window)
URL:https://www.unaoc.org/event/deadline-for-applications-young-peacebuilders-in-mena-2017/
CATEGORIES:Calls For Applications
END:VEVENT
END:VCALENDAR