BEGIN:VCALENDAR
VERSION:2.0
PRODID:-//United Nations Alliance of Civilizations (UNAOC) - ECPv6.15.20//NONSGML v1.0//EN
CALSCALE:GREGORIAN
METHOD:PUBLISH
X-WR-CALNAME:United Nations Alliance of Civilizations (UNAOC)
X-ORIGINAL-URL:https://www.unaoc.org
X-WR-CALDESC:Events for United Nations Alliance of Civilizations (UNAOC)
REFRESH-INTERVAL;VALUE=DURATION:PT1H
X-Robots-Tag:noindex
X-PUBLISHED-TTL:PT1H
BEGIN:VTIMEZONE
TZID:America/Halifax
BEGIN:DAYLIGHT
TZOFFSETFROM:-0400
TZOFFSETTO:-0300
TZNAME:ADT
DTSTART:20140309T060000
END:DAYLIGHT
BEGIN:STANDARD
TZOFFSETFROM:-0300
TZOFFSETTO:-0400
TZNAME:AST
DTSTART:20141102T050000
END:STANDARD
BEGIN:DAYLIGHT
TZOFFSETFROM:-0400
TZOFFSETTO:-0300
TZNAME:ADT
DTSTART:20150308T060000
END:DAYLIGHT
BEGIN:STANDARD
TZOFFSETFROM:-0300
TZOFFSETTO:-0400
TZNAME:AST
DTSTART:20151101T050000
END:STANDARD
BEGIN:DAYLIGHT
TZOFFSETFROM:-0400
TZOFFSETTO:-0300
TZNAME:ADT
DTSTART:20160313T060000
END:DAYLIGHT
BEGIN:STANDARD
TZOFFSETFROM:-0300
TZOFFSETTO:-0400
TZNAME:AST
DTSTART:20161106T050000
END:STANDARD
END:VTIMEZONE
BEGIN:VEVENT
DTSTART;TZID=America/Halifax:20151101T170000
DTEND;TZID=America/Halifax:20151101T170000
DTSTAMP:20260421T145504
CREATED:20151020T181916Z
LAST-MODIFIED:20151020T181917Z
UID:16609-1446397200-1446397200@www.unaoc.org
SUMMARY:Deadline for Applications for Political Affairs and Peace Advocacy Consultant
DESCRIPTION:Post Title:\nPolitical Affairs and Peace Advocacy Consultant\n\nPost Level:\nLICA -8\nThis is a Local position therefore it is open to US Nationals and /or candidates with permit to work in USA.\n\nOrg Unit:\nUnited Nations Alliance of Civilizations\n\nDuty Station:\nNew York\, with travel to overseas missions\n\nDuration:\nNovember 20\, 2015-April 30\, 2016\nClick here to read the Terms of Reference.
URL:https://www.unaoc.org/event/deadline-for-applications-for-political-affairs-and-peace-advocacy-consultant/
CATEGORIES:Calls For Applications
END:VEVENT
END:VCALENDAR