BEGIN:VCALENDAR
VERSION:2.0
PRODID:-//United Nations Alliance of Civilizations (UNAOC) - ECPv5.14.2.1//NONSGML v1.0//EN
CALSCALE:GREGORIAN
METHOD:PUBLISH
X-WR-CALNAME:United Nations Alliance of Civilizations (UNAOC)
X-ORIGINAL-URL:https://www.unaoc.org
X-WR-CALDESC:Events for United Nations Alliance of Civilizations (UNAOC)
BEGIN:VTIMEZONE
TZID:America/Halifax
BEGIN:DAYLIGHT
TZOFFSETFROM:-0400
TZOFFSETTO:-0300
TZNAME:ADT
DTSTART:20150308T060000
END:DAYLIGHT
BEGIN:STANDARD
TZOFFSETFROM:-0300
TZOFFSETTO:-0400
TZNAME:AST
DTSTART:20151101T050000
END:STANDARD
END:VTIMEZONE
BEGIN:VEVENT
DTSTART;TZID=America/Halifax:20151101T170000
DTEND;TZID=America/Halifax:20151101T170000
DTSTAMP:20221113T161803
CREATED:20151020T182128Z
LAST-MODIFIED:20151020T182128Z
UID:16611-1446397200-1446397200@www.unaoc.org
SUMMARY:Deadline for Applications: Communications Support Assistant
DESCRIPTION:Post Title:\nCommunications Support Assistant \n\nPost Level:\nLICA -5\nThis is a Local position therefore it is open to US Nationals and /or candidates with permit to work in USA.\n\nOrg Unit:\nUnited Nations Alliance of Civilizations  \n\nDuty Station:\nNew York\, with travel to overseas missions \n\nDuration:\nJanuary 4\, 2016-April 30\, 2016 \nClick here to read the terms of reference. \nShare thisClick to share on Twitter (Opens in new window)Click to share on Facebook (Opens in new window)Click to share on LinkedIn (Opens in new window)Click to share on Pinterest (Opens in new window)Click to share on Skype (Opens in new window)Click to share on WhatsApp (Opens in new window)Click to email a link to a friend (Opens in new window)MoreClick to share on Reddit (Opens in new window)Click to share on Tumblr (Opens in new window)Click to print (Opens in new window)Click to share on Pocket (Opens in new window)Click to share on Telegram (Opens in new window)
URL:https://www.unaoc.org/event/deadline-for-applications-communications-support-assistant/
CATEGORIES:Calls For Applications
END:VEVENT
END:VCALENDAR