BEGIN:VCALENDAR
VERSION:2.0
PRODID:-//United Nations Alliance of Civilizations (UNAOC) - ECPv5.14.2.1//NONSGML v1.0//EN
CALSCALE:GREGORIAN
METHOD:PUBLISH
X-WR-CALNAME:United Nations Alliance of Civilizations (UNAOC)
X-ORIGINAL-URL:https://www.unaoc.org
X-WR-CALDESC:Events for United Nations Alliance of Civilizations (UNAOC)
BEGIN:VTIMEZONE
TZID:America/Halifax
BEGIN:DAYLIGHT
TZOFFSETFROM:-0400
TZOFFSETTO:-0300
TZNAME:ADT
DTSTART:20170312T060000
END:DAYLIGHT
BEGIN:STANDARD
TZOFFSETFROM:-0300
TZOFFSETTO:-0400
TZNAME:AST
DTSTART:20171105T050000
END:STANDARD
END:VTIMEZONE
BEGIN:VEVENT
DTSTART;VALUE=DATE:20170831
DTEND;VALUE=DATE:20170901
DTSTAMP:20221113T141433
CREATED:20170804T154708Z
LAST-MODIFIED:20170807T152316Z
UID:21911-1504137600-1504223999@www.unaoc.org
SUMMARY:Deadline for Applications: Communications and Programme Intern
DESCRIPTION:The United Nations Alliance of Civilizations is looking for a Communications and Programme Intern for its New York office. \nDeadline is 31 August 2017. Applications to vacancies must be received before midnight Copenhagen time (CET) on the closing date of the announcement. Click here to learn more about this vacancy. \nApply for this vacancy now  \nShare thisClick to share on Twitter (Opens in new window)Click to share on Facebook (Opens in new window)Click to share on LinkedIn (Opens in new window)Click to share on Pinterest (Opens in new window)Click to share on Skype (Opens in new window)Click to share on WhatsApp (Opens in new window)Click to email a link to a friend (Opens in new window)MoreClick to share on Reddit (Opens in new window)Click to share on Tumblr (Opens in new window)Click to print (Opens in new window)Click to share on Pocket (Opens in new window)Click to share on Telegram (Opens in new window)
URL:https://www.unaoc.org/event/deadline-for-applications-communications-and-programme-intern/
CATEGORIES:Calls For Applications
END:VEVENT
END:VCALENDAR