BEGIN:VCALENDAR
VERSION:2.0
PRODID:-//United Nations Alliance of Civilizations (UNAOC) - ECPv5.14.2.1//NONSGML v1.0//EN
CALSCALE:GREGORIAN
METHOD:PUBLISH
X-WR-CALNAME:United Nations Alliance of Civilizations (UNAOC)
X-ORIGINAL-URL:https://www.unaoc.org
X-WR-CALDESC:Events for United Nations Alliance of Civilizations (UNAOC)
BEGIN:VTIMEZONE
TZID:America/Halifax
BEGIN:DAYLIGHT
TZOFFSETFROM:-0400
TZOFFSETTO:-0300
TZNAME:ADT
DTSTART:20170312T060000
END:DAYLIGHT
BEGIN:STANDARD
TZOFFSETFROM:-0300
TZOFFSETTO:-0400
TZNAME:AST
DTSTART:20171105T050000
END:STANDARD
END:VTIMEZONE
BEGIN:VEVENT
DTSTART;TZID=America/Halifax:20170605T170000
DTEND;TZID=America/Halifax:20170605T170000
DTSTAMP:20221113T142946
CREATED:20170531T180000Z
LAST-MODIFIED:20170531T181438Z
UID:21228-1496682000-1496682000@www.unaoc.org
SUMMARY:Deadline Extended:  Intercultural Innovation Award Call for Applications
DESCRIPTION:Apply by Monday\, 5 June 2017\, 5:00 p.m. EST \nThe United Nations Alliance of Civilizations (UNAOC) and BMW Group are pleased to announce the fifth edition of the Intercultural Innovation Award. Grassroots initiatives that encourage intercultural understanding through innovative methods\, with the aim of alleviating identity-based conflicts around the world\, are encouraged to apply online. The Intercultural Innovation Award is a partnership between UNAOC and the BMW Group that aims to select and support the most innovative grassroots projects which encourage intercultural dialogue and cooperation around the world.  (Read more) \n Click here to apply \n  \nShare thisClick to share on Twitter (Opens in new window)Click to share on Facebook (Opens in new window)Click to share on LinkedIn (Opens in new window)Click to share on Pinterest (Opens in new window)Click to share on Skype (Opens in new window)Click to share on WhatsApp (Opens in new window)Click to email a link to a friend (Opens in new window)MoreClick to share on Reddit (Opens in new window)Click to share on Tumblr (Opens in new window)Click to print (Opens in new window)Click to share on Pocket (Opens in new window)Click to share on Telegram (Opens in new window)
URL:https://www.unaoc.org/event/deadline-extended-intercultural-innovation-award-call-for-applications/
CATEGORIES:Calls For Applications
ATTACH;FMTTYPE=image/png:https://www.unaoc.org/wp-content/uploads/iia-twitter-extended-01.png
END:VEVENT
END:VCALENDAR