BEGIN:VCALENDAR
VERSION:2.0
PRODID:-//United Nations Alliance of Civilizations (UNAOC) - ECPv5.14.2.1//NONSGML v1.0//EN
CALSCALE:GREGORIAN
METHOD:PUBLISH
X-WR-CALNAME:United Nations Alliance of Civilizations (UNAOC)
X-ORIGINAL-URL:https://www.unaoc.org
X-WR-CALDESC:Events for United Nations Alliance of Civilizations (UNAOC)
BEGIN:VTIMEZONE
TZID:America/Halifax
BEGIN:DAYLIGHT
TZOFFSETFROM:-0400
TZOFFSETTO:-0300
TZNAME:ADT
DTSTART:20160313T060000
END:DAYLIGHT
BEGIN:STANDARD
TZOFFSETFROM:-0300
TZOFFSETTO:-0400
TZNAME:AST
DTSTART:20161106T050000
END:STANDARD
END:VTIMEZONE
BEGIN:VEVENT
DTSTART;VALUE=DATE:20160605
DTEND;VALUE=DATE:20160606
DTSTAMP:20221113T150109
CREATED:20160531T142552Z
LAST-MODIFIED:20160531T142552Z
UID:17472-1465084800-1465171199@www.unaoc.org
SUMMARY:Deadline Extended: PLURAL+ Youth Video Festival 2016
DESCRIPTION:The deadline to submit video entries to PLURAL+ 2016 has been extended to Sunday\, 5 June. \nThree young media-makers will be invited\, all travel expenses paid\, to PLURAL+ 2016 Festival and Awards Ceremony in New York\, the 27th October 2016. PLURAL+ partners will give many more awards and professional opportunities. Send your videos on migration\, celebrating diversity and social inclusion to PLURAL+. \nSubmit your Video Entries Now \nShare thisClick to share on Twitter (Opens in new window)Click to share on Facebook (Opens in new window)Click to share on LinkedIn (Opens in new window)Click to share on Pinterest (Opens in new window)Click to share on Skype (Opens in new window)Click to share on WhatsApp (Opens in new window)Click to email a link to a friend (Opens in new window)MoreClick to share on Reddit (Opens in new window)Click to share on Tumblr (Opens in new window)Click to print (Opens in new window)Click to share on Pocket (Opens in new window)Click to share on Telegram (Opens in new window)
URL:https://www.unaoc.org/event/deadline-exten-festival-2016/
CATEGORIES:Calls For Applications
END:VEVENT
END:VCALENDAR