BEGIN:VCALENDAR
VERSION:2.0
PRODID:-//United Nations Alliance of Civilizations (UNAOC) - ECPv5.14.2.1//NONSGML v1.0//EN
CALSCALE:GREGORIAN
METHOD:PUBLISH
X-WR-CALNAME:United Nations Alliance of Civilizations (UNAOC)
X-ORIGINAL-URL:https://www.unaoc.org
X-WR-CALDESC:Events for United Nations Alliance of Civilizations (UNAOC)
BEGIN:VTIMEZONE
TZID:America/Halifax
BEGIN:DAYLIGHT
TZOFFSETFROM:-0400
TZOFFSETTO:-0300
TZNAME:ADT
DTSTART:20160313T060000
END:DAYLIGHT
BEGIN:STANDARD
TZOFFSETFROM:-0300
TZOFFSETTO:-0400
TZNAME:AST
DTSTART:20161106T050000
END:STANDARD
END:VTIMEZONE
BEGIN:VEVENT
DTSTART;VALUE=DATE:20160131
DTEND;VALUE=DATE:20160201
DTSTAMP:20221113T154639
CREATED:20160127T175400Z
LAST-MODIFIED:20160127T175448Z
UID:17169-1454198400-1454284799@www.unaoc.org
SUMMARY:Deadline: Call for Papers – "Media and Information Literacy: Reinforcing Human Rights\, Countering Radicalization and Extremism"
DESCRIPTION:Proposals are now being invited for articles to be published in the Media and Information Literacy and Intercultural Dialogue (MILID) Yearbook 2016. The MILID Yearbook is a peer reviewed academic publication and a joint initiative of the UNESCO-UNAOC University Cooperation Programme on Media and Information Literacy and Intercultural Dialogue. The cooperation programme was launched in 2011 within the framework of the UNESCO University Twinning Programme (UNITWIN). The MILID University Network now consists of 17 universities from all regions of the world. The MILID Yearbook 2013\, 2014 and 2015 have been published in cooperation with the Nordic Information Centre for Media and Communication Research (NORDICOM). \nTo learn more\, please visit: http://milunesco.unaoc.org/resources/call-for-papers-media-and-information-literacy-reinforcing-human-rights-countering-radicalization-and-extremism-2/ \nShare thisClick to share on Twitter (Opens in new window)Click to share on Facebook (Opens in new window)Click to share on LinkedIn (Opens in new window)Click to share on Pinterest (Opens in new window)Click to share on Skype (Opens in new window)Click to share on WhatsApp (Opens in new window)Click to email a link to a friend (Opens in new window)MoreClick to share on Reddit (Opens in new window)Click to share on Tumblr (Opens in new window)Click to print (Opens in new window)Click to share on Pocket (Opens in new window)Click to share on Telegram (Opens in new window)
URL:https://www.unaoc.org/event/deadline-call-for-papers-media-and-information-literacy/
CATEGORIES:Calls For Applications
END:VEVENT
END:VCALENDAR