BEGIN:VCALENDAR
VERSION:2.0
PRODID:-//United Nations Alliance of Civilizations (UNAOC) - ECPv5.14.2.1//NONSGML v1.0//EN
CALSCALE:GREGORIAN
METHOD:PUBLISH
X-WR-CALNAME:United Nations Alliance of Civilizations (UNAOC)
X-ORIGINAL-URL:https://www.unaoc.org
X-WR-CALDESC:Events for United Nations Alliance of Civilizations (UNAOC)
BEGIN:VTIMEZONE
TZID:America/Halifax
BEGIN:DAYLIGHT
TZOFFSETFROM:-0400
TZOFFSETTO:-0300
TZNAME:ADT
DTSTART:20170312T060000
END:DAYLIGHT
BEGIN:STANDARD
TZOFFSETFROM:-0300
TZOFFSETTO:-0400
TZNAME:AST
DTSTART:20171105T050000
END:STANDARD
END:VTIMEZONE
BEGIN:VEVENT
DTSTART;TZID=America/Halifax:20170521T233000
DTEND;TZID=America/Halifax:20170521T235900
DTSTAMP:20221113T141516
CREATED:20170410T175919Z
LAST-MODIFIED:20170410T175919Z
UID:20940-1495409400-1495411140@www.unaoc.org
SUMMARY:Deadline: 2017 UNAOC Fellowship  Call for Applications
DESCRIPTION:Apply by Sunday\, May 21st 2017\, 11:59pm EST \nThe United Nations Alliance of Civilizations (UNAOC) is pleased to launch the call for applications for the 2017 edition of its Fellowship Program. The Call is open to participants between 25 to 35 years old\, from the Middle East\, North Africa\, Europe and North America\, with a strong interest in intercultural exchanges. The theme of the Fellowship 2017 being “The role of civil society and the media in combatting hatred and fostering inclusion”\, candidates must also be able to present professional achievements in these fields. (Read more) \nClick here to apply \nShare thisClick to share on Twitter (Opens in new window)Click to share on Facebook (Opens in new window)Click to share on LinkedIn (Opens in new window)Click to share on Pinterest (Opens in new window)Click to share on Skype (Opens in new window)Click to share on WhatsApp (Opens in new window)Click to email a link to a friend (Opens in new window)MoreClick to share on Reddit (Opens in new window)Click to share on Tumblr (Opens in new window)Click to print (Opens in new window)Click to share on Pocket (Opens in new window)Click to share on Telegram (Opens in new window)
URL:https://www.unaoc.org/event/deadline-2017-unaoc-fellowship-call-for-applications/
CATEGORIES:Calls For Applications
ATTACH;FMTTYPE=image/jpeg:https://www.unaoc.org/wp-content/uploads/fellowship2017-callforapplications.jpg
END:VEVENT
END:VCALENDAR