BEGIN:VCALENDAR
VERSION:2.0
PRODID:-//United Nations Alliance of Civilizations (UNAOC) - ECPv5.14.2.1//NONSGML v1.0//EN
CALSCALE:GREGORIAN
METHOD:PUBLISH
X-WR-CALNAME:United Nations Alliance of Civilizations (UNAOC)
X-ORIGINAL-URL:https://www.unaoc.org
X-WR-CALDESC:Events for United Nations Alliance of Civilizations (UNAOC)
BEGIN:VTIMEZONE
TZID:America/Halifax
BEGIN:DAYLIGHT
TZOFFSETFROM:-0400
TZOFFSETTO:-0300
TZNAME:ADT
DTSTART:20150308T060000
END:DAYLIGHT
BEGIN:STANDARD
TZOFFSETFROM:-0300
TZOFFSETTO:-0400
TZNAME:AST
DTSTART:20151101T050000
END:STANDARD
END:VTIMEZONE
BEGIN:VEVENT
DTSTART;TZID=America/Halifax:20150531T170000
DTEND;TZID=America/Halifax:20150602T200000
DTSTAMP:20221113T162715
CREATED:20150531T204436Z
LAST-MODIFIED:20150603T165221Z
UID:13589-1433091600-1433275200@www.unaoc.org
SUMMARY:Conference on the Notion of Progress in the Diversity of World Cultures\, UNAOC in partnership with Alfred Herrhausen Gesellschaft\, Friedrich-Ebert-Stiftung\, Udo Keller Foundation Forum Humanum\, Stiftung Mercator and Le Monde Diplomatique Program
DESCRIPTION:Conference on the Notion of Progress in the Diversity of World Cultures \, May 31- June 2  NY UNAOC in partnership with  Alfred Herrhausen Gesellschaft\, Friedrich-Ebert-Stiftung\, Udo Keller Foundation Forum Humanum\, Stiftung Mercator and Le Monde Diplomatique Program \nShare thisClick to share on Twitter (Opens in new window)Click to share on Facebook (Opens in new window)Click to share on LinkedIn (Opens in new window)Click to share on Pinterest (Opens in new window)Click to share on Skype (Opens in new window)Click to share on WhatsApp (Opens in new window)Click to email a link to a friend (Opens in new window)MoreClick to share on Reddit (Opens in new window)Click to share on Tumblr (Opens in new window)Click to print (Opens in new window)Click to share on Pocket (Opens in new window)Click to share on Telegram (Opens in new window)
URL:https://www.unaoc.org/event/conference-on-the-notion-of-progress-in-the-diversity-of-world-cultures-unaoc-in-partnership-with-udo-keller-foundation-forum-humanum-stiftung-mercator-and-le-monde-diplomatique-program/
LOCATION:One United Nations Plaza & Permanent Mission of Germany to United Nations\, New York\, NY\, United States
END:VEVENT
END:VCALENDAR